BEGIN:VCALENDAR
VERSION:2.0
PRODID:-//Messiah Baptist Church - ECPv6.14.0//NONSGML v1.0//EN
CALSCALE:GREGORIAN
METHOD:PUBLISH
X-ORIGINAL-URL:https://messiahmbc.org
X-WR-CALDESC:Events for Messiah Baptist Church
REFRESH-INTERVAL;VALUE=DURATION:PT1H
X-Robots-Tag:noindex
X-PUBLISHED-TTL:PT1H
BEGIN:VTIMEZONE
TZID:Europe/Helsinki
BEGIN:DAYLIGHT
TZOFFSETFROM:+0200
TZOFFSETTO:+0300
TZNAME:EEST
DTSTART:20220327T010000
END:DAYLIGHT
BEGIN:STANDARD
TZOFFSETFROM:+0300
TZOFFSETTO:+0200
TZNAME:EET
DTSTART:20221030T010000
END:STANDARD
END:VTIMEZONE
BEGIN:VEVENT
DTSTART;TZID=Europe/Helsinki:20220612T080000
DTEND;TZID=Europe/Helsinki:20220612T090000
DTSTAMP:20260422T201659
CREATED:20150720T181558Z
LAST-MODIFIED:20220629T163129Z
UID:10000635-1655020800-1655024400@messiahmbc.org
SUMMARY:Sunday School
DESCRIPTION:via Conference Call\nTelephone Number – 302-202-1118\nAccess Code – 307379#
URL:https://messiahmbc.org/events/sunday-school/2022-06-12/
LOCATION:Messiah Baptist Church\, 8100 W. Seven Mile Road\, Detroit\, MI\, 48221\, United States
CATEGORIES:Church,Ministry
ATTACH;FMTTYPE=image/jpeg:https://messiahmbc.org/wp-content/uploads/2015/07/seed.jpg
END:VEVENT
BEGIN:VEVENT
DTSTART;TZID=Europe/Helsinki:20220610T183000
DTEND;TZID=Europe/Helsinki:20220610T193000
DTSTAMP:20260422T201659
CREATED:20150720T162024Z
LAST-MODIFIED:20220629T152151Z
UID:10000605-1654885800-1654889400@messiahmbc.org
SUMMARY:Family Favored Friday
DESCRIPTION:Family Favored Friday\nvia  Conference Call Line – 302-202-1118    Access Code – 307379#
URL:https://messiahmbc.org/events/family-favored-friday/2022-06-10/
LOCATION:Messiah Baptist Church\, 8100 W. Seven Mile Road\, Detroit\, MI\, 48221\, United States
CATEGORIES:Church,Ministry
ATTACH;FMTTYPE=image/jpeg:https://messiahmbc.org/wp-content/uploads/2022/05/EVANGELISM-e1662853404873.jpg
END:VEVENT
BEGIN:VEVENT
DTSTART;TZID=Europe/Helsinki:20220607T183000
DTEND;TZID=Europe/Helsinki:20220607T190000
DTSTAMP:20260422T201659
CREATED:20150825T164256Z
LAST-MODIFIED:20220701T011135Z
UID:10000639-1654626600-1654628400@messiahmbc.org
SUMMARY:Evening Glory Prayer
DESCRIPTION:Evening Glory Prayer Conference Call\nTelephone Number – 302-202-1118\nAccess Code – 307379#
URL:https://messiahmbc.org/events/evening-glory-prayer/2022-06-07/
LOCATION:Messiah Baptist Church\, 8100 W. Seven Mile Road\, Detroit\, MI\, 48221\, United States
CATEGORIES:Church,Ministry
ATTACH;FMTTYPE=image/jpeg:https://messiahmbc.org/wp-content/uploads/2015/02/postphoto17.jpg
END:VEVENT
BEGIN:VEVENT
DTSTART;TZID=Europe/Helsinki:20220605T080000
DTEND;TZID=Europe/Helsinki:20220605T090000
DTSTAMP:20260422T201659
CREATED:20150720T181558Z
LAST-MODIFIED:20220629T163129Z
UID:10000634-1654416000-1654419600@messiahmbc.org
SUMMARY:Sunday School
DESCRIPTION:via Conference Call\nTelephone Number – 302-202-1118\nAccess Code – 307379#
URL:https://messiahmbc.org/events/sunday-school/2022-06-05/
LOCATION:Messiah Baptist Church\, 8100 W. Seven Mile Road\, Detroit\, MI\, 48221\, United States
CATEGORIES:Church,Ministry
ATTACH;FMTTYPE=image/jpeg:https://messiahmbc.org/wp-content/uploads/2015/07/seed.jpg
END:VEVENT
BEGIN:VEVENT
DTSTART;TZID=Europe/Helsinki:20220603T183000
DTEND;TZID=Europe/Helsinki:20220603T193000
DTSTAMP:20260422T201659
CREATED:20150720T162024Z
LAST-MODIFIED:20220629T152151Z
UID:10000604-1654281000-1654284600@messiahmbc.org
SUMMARY:Family Favored Friday
DESCRIPTION:Family Favored Friday\nvia  Conference Call Line – 302-202-1118    Access Code – 307379#
URL:https://messiahmbc.org/events/family-favored-friday/2022-06-03/
LOCATION:Messiah Baptist Church\, 8100 W. Seven Mile Road\, Detroit\, MI\, 48221\, United States
CATEGORIES:Church,Ministry
ATTACH;FMTTYPE=image/jpeg:https://messiahmbc.org/wp-content/uploads/2022/05/EVANGELISM-e1662853404873.jpg
END:VEVENT
BEGIN:VEVENT
DTSTART;TZID=Europe/Helsinki:20220531T183000
DTEND;TZID=Europe/Helsinki:20220531T190000
DTSTAMP:20260422T201659
CREATED:20150825T164256Z
LAST-MODIFIED:20220701T011135Z
UID:10000638-1654021800-1654023600@messiahmbc.org
SUMMARY:Evening Glory Prayer
DESCRIPTION:Evening Glory Prayer Conference Call\nTelephone Number – 302-202-1118\nAccess Code – 307379#
URL:https://messiahmbc.org/events/evening-glory-prayer/2022-05-31/
LOCATION:Messiah Baptist Church\, 8100 W. Seven Mile Road\, Detroit\, MI\, 48221\, United States
CATEGORIES:Church,Ministry
ATTACH;FMTTYPE=image/jpeg:https://messiahmbc.org/wp-content/uploads/2015/02/postphoto17.jpg
END:VEVENT
BEGIN:VEVENT
DTSTART;TZID=Europe/Helsinki:20220529T080000
DTEND;TZID=Europe/Helsinki:20220529T090000
DTSTAMP:20260422T201659
CREATED:20150720T181558Z
LAST-MODIFIED:20220629T163129Z
UID:10000633-1653811200-1653814800@messiahmbc.org
SUMMARY:Sunday School
DESCRIPTION:via Conference Call\nTelephone Number – 302-202-1118\nAccess Code – 307379#
URL:https://messiahmbc.org/events/sunday-school/2022-05-29/
LOCATION:Messiah Baptist Church\, 8100 W. Seven Mile Road\, Detroit\, MI\, 48221\, United States
CATEGORIES:Church,Ministry
ATTACH;FMTTYPE=image/jpeg:https://messiahmbc.org/wp-content/uploads/2015/07/seed.jpg
END:VEVENT
BEGIN:VEVENT
DTSTART;TZID=Europe/Helsinki:20220527T183000
DTEND;TZID=Europe/Helsinki:20220527T193000
DTSTAMP:20260422T201659
CREATED:20150720T162024Z
LAST-MODIFIED:20220629T152151Z
UID:10000603-1653676200-1653679800@messiahmbc.org
SUMMARY:Family Favored Friday
DESCRIPTION:Family Favored Friday\nvia  Conference Call Line – 302-202-1118    Access Code – 307379#
URL:https://messiahmbc.org/events/family-favored-friday/2022-05-27/
LOCATION:Messiah Baptist Church\, 8100 W. Seven Mile Road\, Detroit\, MI\, 48221\, United States
CATEGORIES:Church,Ministry
ATTACH;FMTTYPE=image/jpeg:https://messiahmbc.org/wp-content/uploads/2022/05/EVANGELISM-e1662853404873.jpg
END:VEVENT
BEGIN:VEVENT
DTSTART;TZID=Europe/Helsinki:20220522T080000
DTEND;TZID=Europe/Helsinki:20220522T090000
DTSTAMP:20260422T201659
CREATED:20150720T181558Z
LAST-MODIFIED:20220629T163129Z
UID:10000632-1653206400-1653210000@messiahmbc.org
SUMMARY:Sunday School
DESCRIPTION:via Conference Call\nTelephone Number – 302-202-1118\nAccess Code – 307379#
URL:https://messiahmbc.org/events/sunday-school/2022-05-22/
LOCATION:Messiah Baptist Church\, 8100 W. Seven Mile Road\, Detroit\, MI\, 48221\, United States
CATEGORIES:Church,Ministry
ATTACH;FMTTYPE=image/jpeg:https://messiahmbc.org/wp-content/uploads/2015/07/seed.jpg
END:VEVENT
BEGIN:VEVENT
DTSTART;TZID=Europe/Helsinki:20220520T183000
DTEND;TZID=Europe/Helsinki:20220520T193000
DTSTAMP:20260422T201659
CREATED:20150720T162024Z
LAST-MODIFIED:20220629T152151Z
UID:10000602-1653071400-1653075000@messiahmbc.org
SUMMARY:Family Favored Friday
DESCRIPTION:Family Favored Friday\nvia  Conference Call Line – 302-202-1118    Access Code – 307379#
URL:https://messiahmbc.org/events/family-favored-friday/2022-05-20/
LOCATION:Messiah Baptist Church\, 8100 W. Seven Mile Road\, Detroit\, MI\, 48221\, United States
CATEGORIES:Church,Ministry
ATTACH;FMTTYPE=image/jpeg:https://messiahmbc.org/wp-content/uploads/2022/05/EVANGELISM-e1662853404873.jpg
END:VEVENT
END:VCALENDAR