BEGIN:VCALENDAR
VERSION:2.0
PRODID:-//Messiah Baptist Church - ECPv6.14.0//NONSGML v1.0//EN
CALSCALE:GREGORIAN
METHOD:PUBLISH
X-WR-CALNAME:Messiah Baptist Church
X-ORIGINAL-URL:https://messiahmbc.org
X-WR-CALDESC:Events for Messiah Baptist Church
REFRESH-INTERVAL;VALUE=DURATION:PT1H
X-Robots-Tag:noindex
X-PUBLISHED-TTL:PT1H
BEGIN:VTIMEZONE
TZID:America/Detroit
BEGIN:DAYLIGHT
TZOFFSETFROM:-0500
TZOFFSETTO:-0400
TZNAME:EDT
DTSTART:20300310T070000
END:DAYLIGHT
BEGIN:STANDARD
TZOFFSETFROM:-0400
TZOFFSETTO:-0500
TZNAME:EST
DTSTART:20301103T060000
END:STANDARD
END:VTIMEZONE
BEGIN:VEVENT
DTSTART;TZID=America/Detroit:20301103T103000
DTEND;TZID=America/Detroit:20301103T123000
DTSTAMP:20260423T000240
CREATED:20260405T004436Z
LAST-MODIFIED:20260405T004705Z
UID:10002297-1919932200-1919939400@messiahmbc.org
SUMMARY:SUNDAY WORSHIP SERVICE
DESCRIPTION:Join us for Sunday Morning Worship Service\, in-person or on-line. \nMessiah Baptist Church is Yours to Experience.
URL:https://messiahmbc.org/events/sunday-worship-service-3/2030-11-03/
LOCATION:Messiah Baptist Church\, 8100 W. Seven Mile Road\, Detroit\, MI\, 48221\, United States
CATEGORIES:Church,Event,Ministry
ATTACH;FMTTYPE=image/jpeg:https://messiahmbc.org/wp-content/uploads/2022/05/EVANGELISM-e1662853404873.jpg
END:VEVENT
BEGIN:VEVENT
DTSTART;TZID=America/Detroit:20301110T103000
DTEND;TZID=America/Detroit:20301110T123000
DTSTAMP:20260423T000240
CREATED:20260405T004436Z
LAST-MODIFIED:20260405T004705Z
UID:10002298-1920537000-1920544200@messiahmbc.org
SUMMARY:SUNDAY WORSHIP SERVICE
DESCRIPTION:Join us for Sunday Morning Worship Service\, in-person or on-line. \nMessiah Baptist Church is Yours to Experience.
URL:https://messiahmbc.org/events/sunday-worship-service-3/2030-11-10/
LOCATION:Messiah Baptist Church\, 8100 W. Seven Mile Road\, Detroit\, MI\, 48221\, United States
CATEGORIES:Church,Event,Ministry
ATTACH;FMTTYPE=image/jpeg:https://messiahmbc.org/wp-content/uploads/2022/05/EVANGELISM-e1662853404873.jpg
END:VEVENT
BEGIN:VEVENT
DTSTART;TZID=America/Detroit:20301117T103000
DTEND;TZID=America/Detroit:20301117T123000
DTSTAMP:20260423T000240
CREATED:20260405T004436Z
LAST-MODIFIED:20260405T004705Z
UID:10002299-1921141800-1921149000@messiahmbc.org
SUMMARY:SUNDAY WORSHIP SERVICE
DESCRIPTION:Join us for Sunday Morning Worship Service\, in-person or on-line. \nMessiah Baptist Church is Yours to Experience.
URL:https://messiahmbc.org/events/sunday-worship-service-3/2030-11-17/
LOCATION:Messiah Baptist Church\, 8100 W. Seven Mile Road\, Detroit\, MI\, 48221\, United States
CATEGORIES:Church,Event,Ministry
ATTACH;FMTTYPE=image/jpeg:https://messiahmbc.org/wp-content/uploads/2022/05/EVANGELISM-e1662853404873.jpg
END:VEVENT
BEGIN:VEVENT
DTSTART;TZID=America/Detroit:20301124T103000
DTEND;TZID=America/Detroit:20301124T123000
DTSTAMP:20260423T000240
CREATED:20260405T004436Z
LAST-MODIFIED:20260405T004705Z
UID:10002300-1921746600-1921753800@messiahmbc.org
SUMMARY:SUNDAY WORSHIP SERVICE
DESCRIPTION:Join us for Sunday Morning Worship Service\, in-person or on-line. \nMessiah Baptist Church is Yours to Experience.
URL:https://messiahmbc.org/events/sunday-worship-service-3/2030-11-24/
LOCATION:Messiah Baptist Church\, 8100 W. Seven Mile Road\, Detroit\, MI\, 48221\, United States
CATEGORIES:Church,Event,Ministry
ATTACH;FMTTYPE=image/jpeg:https://messiahmbc.org/wp-content/uploads/2022/05/EVANGELISM-e1662853404873.jpg
END:VEVENT
END:VCALENDAR