BEGIN:VCALENDAR
VERSION:2.0
PRODID:-//Messiah Baptist Church - ECPv6.14.0//NONSGML v1.0//EN
CALSCALE:GREGORIAN
METHOD:PUBLISH
X-WR-CALNAME:Messiah Baptist Church
X-ORIGINAL-URL:https://messiahmbc.org
X-WR-CALDESC:Events for Messiah Baptist Church
REFRESH-INTERVAL;VALUE=DURATION:PT1H
X-Robots-Tag:noindex
X-PUBLISHED-TTL:PT1H
BEGIN:VTIMEZONE
TZID:America/Detroit
BEGIN:DAYLIGHT
TZOFFSETFROM:-0500
TZOFFSETTO:-0400
TZNAME:EDT
DTSTART:20250309T070000
END:DAYLIGHT
BEGIN:STANDARD
TZOFFSETFROM:-0400
TZOFFSETTO:-0500
TZNAME:EST
DTSTART:20251102T060000
END:STANDARD
END:VTIMEZONE
BEGIN:VEVENT
DTSTART;TZID=America/Detroit:20250607T120000
DTEND;TZID=America/Detroit:20250607T153000
DTSTAMP:20260424T124629
CREATED:20250406T201936Z
LAST-MODIFIED:20250406T201936Z
UID:10001075-1749297600-1749310200@messiahmbc.org
SUMMARY:Conversation of Comfort Ministry Annual Luncheon
DESCRIPTION:Messiah Baptist Church –  Conversation of Comfort Ministry presents its Annual Luncheon. \nPlease see Shirley Ford\, Josephine Patterson\, Vanessa Horton or Rev. Susie Gilliam for tickets. \n 
URL:https://messiahmbc.org/events/conversation-of-comfort-ministry-annual-luncheon/
LOCATION:Gazebo Banquet Center\, 31104 Mound Road\, Warren\, MI\, 48092
ATTACH;FMTTYPE=image/png:https://messiahmbc.org/wp-content/uploads/2025/04/Conversation-for-Comfort-Ministry-Luncheon-Flyer-2025.png
END:VEVENT
BEGIN:VEVENT
DTSTART;TZID=America/Detroit:20250610T191500
DTEND;TZID=America/Detroit:20250610T201500
DTSTAMP:20260424T124629
CREATED:20250622T163350Z
LAST-MODIFIED:20250706T153128Z
UID:10001081-1749582900-1749586500@messiahmbc.org
SUMMARY:MESSIAH BAPTIST CHURCH || MEN OF VALOUR
DESCRIPTION:Calling all Men of Messiah to join Pastor Littlejohn weekly via conference call. \nConference Call info is: 302-202-1118\,\,\,307379# \n 
URL:https://messiahmbc.org/events/men-of-valor/2025-06-10/
LOCATION:MI
ATTACH;FMTTYPE=image/jpeg:https://messiahmbc.org/wp-content/uploads/2025/06/White-Maximalist-Conference-Digital-Display-169-1.jpg
END:VEVENT
BEGIN:VEVENT
DTSTART;TZID=America/Detroit:20250617T191500
DTEND;TZID=America/Detroit:20250617T201500
DTSTAMP:20260424T124629
CREATED:20250622T163350Z
LAST-MODIFIED:20250706T153128Z
UID:10001082-1750187700-1750191300@messiahmbc.org
SUMMARY:MESSIAH BAPTIST CHURCH || MEN OF VALOUR
DESCRIPTION:Calling all Men of Messiah to join Pastor Littlejohn weekly via conference call. \nConference Call info is: 302-202-1118\,\,\,307379# \n 
URL:https://messiahmbc.org/events/men-of-valor/2025-06-17/
LOCATION:MI
ATTACH;FMTTYPE=image/jpeg:https://messiahmbc.org/wp-content/uploads/2025/06/White-Maximalist-Conference-Digital-Display-169-1.jpg
END:VEVENT
BEGIN:VEVENT
DTSTART;TZID=America/Detroit:20250624T191500
DTEND;TZID=America/Detroit:20250624T201500
DTSTAMP:20260424T124629
CREATED:20250622T163350Z
LAST-MODIFIED:20250706T153128Z
UID:10001083-1750792500-1750796100@messiahmbc.org
SUMMARY:MESSIAH BAPTIST CHURCH || MEN OF VALOUR
DESCRIPTION:Calling all Men of Messiah to join Pastor Littlejohn weekly via conference call. \nConference Call info is: 302-202-1118\,\,\,307379# \n 
URL:https://messiahmbc.org/events/men-of-valor/2025-06-24/
LOCATION:MI
ATTACH;FMTTYPE=image/jpeg:https://messiahmbc.org/wp-content/uploads/2025/06/White-Maximalist-Conference-Digital-Display-169-1.jpg
END:VEVENT
END:VCALENDAR