BEGIN:VCALENDAR
VERSION:2.0
PRODID:-//Messiah Baptist Church - ECPv6.14.0//NONSGML v1.0//EN
CALSCALE:GREGORIAN
METHOD:PUBLISH
X-ORIGINAL-URL:https://messiahmbc.org
X-WR-CALDESC:Events for Messiah Baptist Church
REFRESH-INTERVAL;VALUE=DURATION:PT1H
X-Robots-Tag:noindex
X-PUBLISHED-TTL:PT1H
BEGIN:VTIMEZONE
TZID:America/Detroit
BEGIN:DAYLIGHT
TZOFFSETFROM:-0500
TZOFFSETTO:-0400
TZNAME:EDT
DTSTART:20240310T070000
END:DAYLIGHT
BEGIN:STANDARD
TZOFFSETFROM:-0400
TZOFFSETTO:-0500
TZNAME:EST
DTSTART:20241103T060000
END:STANDARD
END:VTIMEZONE
BEGIN:VEVENT
DTSTART;TZID=America/Detroit:20240605T180000
DTEND;TZID=America/Detroit:20240605T193000
DTSTAMP:20260425T115834
CREATED:20231019T001557Z
LAST-MODIFIED:20240427T190825Z
UID:10001012-1717610400-1717615800@messiahmbc.org
SUMMARY:BTM (Bible Training for Ministry)
DESCRIPTION:Join us every Wednesday at 6pm for Bible Study via the ZOOM Experience.
URL:https://messiahmbc.org/events/btm-bible-training-for-ministry/2024-06-05/
LOCATION:MI
ATTACH;FMTTYPE=image/jpeg:https://messiahmbc.org/wp-content/uploads/2023/10/BIBLE-STUDY.jpg
END:VEVENT
BEGIN:VEVENT
DTSTART;TZID=America/Detroit:20240612T180000
DTEND;TZID=America/Detroit:20240612T193000
DTSTAMP:20260425T115834
CREATED:20231019T001557Z
LAST-MODIFIED:20240427T190825Z
UID:10001013-1718215200-1718220600@messiahmbc.org
SUMMARY:BTM (Bible Training for Ministry)
DESCRIPTION:Join us every Wednesday at 6pm for Bible Study via the ZOOM Experience.
URL:https://messiahmbc.org/events/btm-bible-training-for-ministry/2024-06-12/
LOCATION:MI
ATTACH;FMTTYPE=image/jpeg:https://messiahmbc.org/wp-content/uploads/2023/10/BIBLE-STUDY.jpg
END:VEVENT
BEGIN:VEVENT
DTSTART;TZID=America/Detroit:20240619T180000
DTEND;TZID=America/Detroit:20240619T193000
DTSTAMP:20260425T115834
CREATED:20231019T001557Z
LAST-MODIFIED:20240427T190825Z
UID:10001014-1718820000-1718825400@messiahmbc.org
SUMMARY:BTM (Bible Training for Ministry)
DESCRIPTION:Join us every Wednesday at 6pm for Bible Study via the ZOOM Experience.
URL:https://messiahmbc.org/events/btm-bible-training-for-ministry/2024-06-19/
LOCATION:MI
ATTACH;FMTTYPE=image/jpeg:https://messiahmbc.org/wp-content/uploads/2023/10/BIBLE-STUDY.jpg
END:VEVENT
BEGIN:VEVENT
DTSTART;TZID=America/Detroit:20240626T180000
DTEND;TZID=America/Detroit:20240626T193000
DTSTAMP:20260425T115834
CREATED:20231019T001557Z
LAST-MODIFIED:20240427T190825Z
UID:10001015-1719424800-1719430200@messiahmbc.org
SUMMARY:BTM (Bible Training for Ministry)
DESCRIPTION:Join us every Wednesday at 6pm for Bible Study via the ZOOM Experience.
URL:https://messiahmbc.org/events/btm-bible-training-for-ministry/2024-06-26/
LOCATION:MI
ATTACH;FMTTYPE=image/jpeg:https://messiahmbc.org/wp-content/uploads/2023/10/BIBLE-STUDY.jpg
END:VEVENT
END:VCALENDAR