BEGIN:VCALENDAR
VERSION:2.0
PRODID:-//Messiah Baptist Church - ECPv6.14.0//NONSGML v1.0//EN
CALSCALE:GREGORIAN
METHOD:PUBLISH
X-WR-CALNAME:Messiah Baptist Church
X-ORIGINAL-URL:https://messiahmbc.org
X-WR-CALDESC:Events for Messiah Baptist Church
REFRESH-INTERVAL;VALUE=DURATION:PT1H
X-Robots-Tag:noindex
X-PUBLISHED-TTL:PT1H
BEGIN:VTIMEZONE
TZID:America/Detroit
BEGIN:DAYLIGHT
TZOFFSETFROM:-0500
TZOFFSETTO:-0400
TZNAME:EDT
DTSTART:20220313T070000
END:DAYLIGHT
BEGIN:STANDARD
TZOFFSETFROM:-0400
TZOFFSETTO:-0500
TZNAME:EST
DTSTART:20221106T060000
END:STANDARD
END:VTIMEZONE
BEGIN:VEVENT
DTSTART;TZID=America/Detroit:20221101T180000
DTEND;TZID=America/Detroit:20221101T190000
DTSTAMP:20260425T224124
CREATED:20220701T011421Z
LAST-MODIFIED:20220829T155156Z
UID:10000742-1667325600-1667329200@messiahmbc.org
SUMMARY:Evening Glory Prayer
DESCRIPTION:Evening Glory Prayer Conference Call\nTelephone Number – 302-202-1118\nAccess Code – 307379#
URL:https://messiahmbc.org/events/evening-glory-prayer-2-2022-09-20/2022-11-01/
CATEGORIES:Church,Ministry
ATTACH;FMTTYPE=image/jpeg:https://messiahmbc.org/wp-content/uploads/2015/02/postphoto17.jpg
END:VEVENT
BEGIN:VEVENT
DTSTART;TZID=America/Detroit:20221101T060000
DTEND;TZID=America/Detroit:20221101T070000
DTSTAMP:20260425T224124
CREATED:20220701T011835Z
LAST-MODIFIED:20220829T155049Z
UID:10000794-1667282400-1667286000@messiahmbc.org
SUMMARY:Morning Glory Prayer
DESCRIPTION:Morning Glory Prayer Conference Call\nTelephone Number – 302-202-1118\nAccess Code – 307379# \n 
URL:https://messiahmbc.org/events/morning-glory-prayer-2-2022-09-20/2022-11-01/
CATEGORIES:Church,Ministry
ATTACH;FMTTYPE=image/jpeg:https://messiahmbc.org/wp-content/uploads/2022/05/making-time-for-god012214.jpg
END:VEVENT
BEGIN:VEVENT
DTSTART;TZID=America/Detroit:20221030T120000
DTEND;TZID=America/Detroit:20221030T130000
DTSTAMP:20260425T224124
CREATED:20221022T005553Z
LAST-MODIFIED:20221022T005553Z
UID:10000958-1667131200-1667134800@messiahmbc.org
SUMMARY:Messiah Baptist Church - Trunk of Treats
DESCRIPTION:TRUNK OF TREATS HAS RETURNED… and YOU ARE INVITED  TO ATTEND ! \nMBC extends an invitation to it’s members and the community to join us at our Harvest Fest/Trunks of Treats. \nThis event will take place in the parking lot of the church grounds.  All KIDS who participate are encouraged to wear a church appropriate costume. \nCOME AND GET YOUR FAVORITE TREAT OUT OF OUR BLESSED TRUNKS!!! \n  \n 
URL:https://messiahmbc.org/events/messiah-baptist-church-trunk-of-treats/
LOCATION:Messiah Baptist Church\, 8100 W. Seven Mile Road\, Detroit\, MI\, 48221\, United States
ATTACH;FMTTYPE=image/jpeg:https://messiahmbc.org/wp-content/uploads/2022/10/Trunk-of-Treats-2022.jpg
END:VEVENT
BEGIN:VEVENT
DTSTART;TZID=America/Detroit:20221029T100000
DTEND;TZID=America/Detroit:20221029T110000
DTSTAMP:20260425T224124
CREATED:20220701T021246Z
LAST-MODIFIED:20220701T021427Z
UID:10000858-1667037600-1667041200@messiahmbc.org
SUMMARY:Teen Talk
DESCRIPTION:Teen Talk – Saturday’s Teen Talk – 10:00 a.m.\nZOOM
URL:https://messiahmbc.org/events/teen-talk-2/2022-10-29/
CATEGORIES:Church,Ministry
ATTACH;FMTTYPE=image/jpeg:https://messiahmbc.org/wp-content/uploads/2022/05/praise.jpg
END:VEVENT
BEGIN:VEVENT
DTSTART;TZID=America/Detroit:20221027T183000
DTEND;TZID=America/Detroit:20221027T190000
DTSTAMP:20260425T224124
CREATED:20220701T021844Z
LAST-MODIFIED:20220701T021844Z
UID:10000899-1666895400-1666897200@messiahmbc.org
SUMMARY:Men’s Connection
DESCRIPTION:Men’s Connection
URL:https://messiahmbc.org/events/mens-connection-3/2022-10-27/
CATEGORIES:Church,Ministry
ATTACH;FMTTYPE=image/jpeg:https://messiahmbc.org/wp-content/uploads/2022/05/blk-hand.jpg
END:VEVENT
BEGIN:VEVENT
DTSTART;TZID=America/Detroit:20221026T180000
DTEND;TZID=America/Detroit:20221026T190000
DTSTAMP:20260425T224124
CREATED:20220624T184350Z
LAST-MODIFIED:20220922T000359Z
UID:10000683-1666807200-1666810800@messiahmbc.org
SUMMARY:Bible Training For Ministry (Every Wednesday)
DESCRIPTION:Bible Training Ministry\nWednesdays– 6:00 p.m. via Zoom
URL:https://messiahmbc.org/events/bible-training-ministry-wednesday-2022-09-21/2022-10-26/
ATTACH;FMTTYPE=image/jpeg:https://messiahmbc.org/wp-content/uploads/2022/06/bible-study-Flyer-II.jpg
END:VEVENT
BEGIN:VEVENT
DTSTART;TZID=America/Detroit:20221025T180000
DTEND;TZID=America/Detroit:20221025T190000
DTSTAMP:20260425T224124
CREATED:20220701T011421Z
LAST-MODIFIED:20220829T155156Z
UID:10000741-1666720800-1666724400@messiahmbc.org
SUMMARY:Evening Glory Prayer
DESCRIPTION:Evening Glory Prayer Conference Call\nTelephone Number – 302-202-1118\nAccess Code – 307379#
URL:https://messiahmbc.org/events/evening-glory-prayer-2-2022-09-20/2022-10-25/
CATEGORIES:Church,Ministry
ATTACH;FMTTYPE=image/jpeg:https://messiahmbc.org/wp-content/uploads/2015/02/postphoto17.jpg
END:VEVENT
BEGIN:VEVENT
DTSTART;TZID=America/Detroit:20221025T060000
DTEND;TZID=America/Detroit:20221025T070000
DTSTAMP:20260425T224124
CREATED:20220701T011835Z
LAST-MODIFIED:20220829T155049Z
UID:10000793-1666677600-1666681200@messiahmbc.org
SUMMARY:Morning Glory Prayer
DESCRIPTION:Morning Glory Prayer Conference Call\nTelephone Number – 302-202-1118\nAccess Code – 307379# \n 
URL:https://messiahmbc.org/events/morning-glory-prayer-2-2022-09-20/2022-10-25/
CATEGORIES:Church,Ministry
ATTACH;FMTTYPE=image/jpeg:https://messiahmbc.org/wp-content/uploads/2022/05/making-time-for-god012214.jpg
END:VEVENT
BEGIN:VEVENT
DTSTART;TZID=America/Detroit:20221024T180000
DTEND;TZID=America/Detroit:20221024T180000
DTSTAMP:20260425T224124
CREATED:20220701T012328Z
LAST-MODIFIED:20220701T015014Z
UID:10000832-1666634400-1666634400@messiahmbc.org
SUMMARY:Womens Ministry Mondays
DESCRIPTION:Women’s Ministry Mondays 6:00 p.m. with\nPastor\, Rev. Orville K. Littlejohn – via ZOOM
URL:https://messiahmbc.org/events/womens-ministry-mondays/2022-10-24/
CATEGORIES:Church,Ministry
ATTACH;FMTTYPE=image/jpeg:https://messiahmbc.org/wp-content/uploads/2015/04/ichthys-home-banner.jpg
END:VEVENT
BEGIN:VEVENT
DTSTART;TZID=America/Detroit:20221022T100000
DTEND;TZID=America/Detroit:20221022T110000
DTSTAMP:20260425T224124
CREATED:20220701T021246Z
LAST-MODIFIED:20220701T021427Z
UID:10000857-1666432800-1666436400@messiahmbc.org
SUMMARY:Teen Talk
DESCRIPTION:Teen Talk – Saturday’s Teen Talk – 10:00 a.m.\nZOOM
URL:https://messiahmbc.org/events/teen-talk-2/2022-10-22/
CATEGORIES:Church,Ministry
ATTACH;FMTTYPE=image/jpeg:https://messiahmbc.org/wp-content/uploads/2022/05/praise.jpg
END:VEVENT
BEGIN:VEVENT
DTSTART;TZID=America/Detroit:20221020T183000
DTEND;TZID=America/Detroit:20221020T190000
DTSTAMP:20260425T224124
CREATED:20220701T021844Z
LAST-MODIFIED:20220701T021844Z
UID:10000898-1666290600-1666292400@messiahmbc.org
SUMMARY:Men’s Connection
DESCRIPTION:Men’s Connection
URL:https://messiahmbc.org/events/mens-connection-3/2022-10-20/
CATEGORIES:Church,Ministry
ATTACH;FMTTYPE=image/jpeg:https://messiahmbc.org/wp-content/uploads/2022/05/blk-hand.jpg
END:VEVENT
BEGIN:VEVENT
DTSTART;TZID=America/Detroit:20221019T180000
DTEND;TZID=America/Detroit:20221019T190000
DTSTAMP:20260425T224124
CREATED:20220624T184350Z
LAST-MODIFIED:20220922T000359Z
UID:10000682-1666202400-1666206000@messiahmbc.org
SUMMARY:Bible Training For Ministry (Every Wednesday)
DESCRIPTION:Bible Training Ministry\nWednesdays– 6:00 p.m. via Zoom
URL:https://messiahmbc.org/events/bible-training-ministry-wednesday-2022-09-21/2022-10-19/
ATTACH;FMTTYPE=image/jpeg:https://messiahmbc.org/wp-content/uploads/2022/06/bible-study-Flyer-II.jpg
END:VEVENT
BEGIN:VEVENT
DTSTART;TZID=America/Detroit:20221018T180000
DTEND;TZID=America/Detroit:20221018T190000
DTSTAMP:20260425T224124
CREATED:20220701T011421Z
LAST-MODIFIED:20220829T155156Z
UID:10000740-1666116000-1666119600@messiahmbc.org
SUMMARY:Evening Glory Prayer
DESCRIPTION:Evening Glory Prayer Conference Call\nTelephone Number – 302-202-1118\nAccess Code – 307379#
URL:https://messiahmbc.org/events/evening-glory-prayer-2-2022-09-20/2022-10-18/
CATEGORIES:Church,Ministry
ATTACH;FMTTYPE=image/jpeg:https://messiahmbc.org/wp-content/uploads/2015/02/postphoto17.jpg
END:VEVENT
BEGIN:VEVENT
DTSTART;TZID=America/Detroit:20221018T060000
DTEND;TZID=America/Detroit:20221018T070000
DTSTAMP:20260425T224124
CREATED:20220701T011835Z
LAST-MODIFIED:20220829T155049Z
UID:10000792-1666072800-1666076400@messiahmbc.org
SUMMARY:Morning Glory Prayer
DESCRIPTION:Morning Glory Prayer Conference Call\nTelephone Number – 302-202-1118\nAccess Code – 307379# \n 
URL:https://messiahmbc.org/events/morning-glory-prayer-2-2022-09-20/2022-10-18/
CATEGORIES:Church,Ministry
ATTACH;FMTTYPE=image/jpeg:https://messiahmbc.org/wp-content/uploads/2022/05/making-time-for-god012214.jpg
END:VEVENT
BEGIN:VEVENT
DTSTART;TZID=America/Detroit:20221016T103000
DTEND;TZID=America/Detroit:20221016T120000
DTSTAMP:20260425T224124
CREATED:20220920T152927Z
LAST-MODIFIED:20220920T153642Z
UID:10000950-1665916200-1665921600@messiahmbc.org
SUMMARY:ALL MINISTRY DAY
DESCRIPTION:Join us during our ALL MINISTRY DAY SERVICE! \nCOVID PROTOCOL:  Mask must be work at all times while in the building.  Social Distancing enforced and temperature checks performed.
URL:https://messiahmbc.org/events/all-ministry-day/
LOCATION:Messiah Baptist Church\, 8100 W. Seven Mile Road\, Detroit\, MI\, 48221\, United States
ATTACH;FMTTYPE=image/jpeg:https://messiahmbc.org/wp-content/uploads/2022/09/All-Ministry-Day-Flyer-2022.jpg-II.jpg
END:VEVENT
BEGIN:VEVENT
DTSTART;TZID=America/Detroit:20221016T103000
DTEND;TZID=America/Detroit:20221016T113000
DTSTAMP:20260425T224124
CREATED:20221002T150308Z
LAST-MODIFIED:20221002T150308Z
UID:10000953-1665916200-1665919800@messiahmbc.org
SUMMARY:ALL MINISTRY WEEK
DESCRIPTION:Join us for ALL MINISTRY WEEK. \nWe will start the week with Sunday Morning Worship Service on October 16th @ 10:30am. (In-Person\, Via YouTube and Facebook) \nOur guest speaker is:  Bishop Corletta J. Vaughn- Go Tell It Ministry Worldwide\, Inc.
URL:https://messiahmbc.org/events/all-ministry-week/
LOCATION:Messiah Baptist Church\, 8100 W. Seven Mile Road\, Detroit\, MI\, 48221\, United States
ATTACH;FMTTYPE=image/jpeg:https://messiahmbc.org/wp-content/uploads/2022/10/ALL-MINISTRY-WEEK-FLYER-2022-1.jpg
END:VEVENT
BEGIN:VEVENT
DTSTART;TZID=America/Detroit:20221015T103000
DTEND;TZID=America/Detroit:20221015T133000
DTSTAMP:20260425T224124
CREATED:20220920T192707Z
LAST-MODIFIED:20220920T192707Z
UID:10000952-1665829800-1665840600@messiahmbc.org
SUMMARY:Women's Ministry Luncheon
DESCRIPTION:
URL:https://messiahmbc.org/events/womens-ministry-luncheon/
LOCATION:Tapestry Banquet Hall\, 24580 Evergreen Road\, Southfield\, MI\, 48075\, United States
END:VEVENT
BEGIN:VEVENT
DTSTART;TZID=America/Detroit:20221015T100000
DTEND;TZID=America/Detroit:20221015T110000
DTSTAMP:20260425T224124
CREATED:20220701T021246Z
LAST-MODIFIED:20220701T021427Z
UID:10000856-1665828000-1665831600@messiahmbc.org
SUMMARY:Teen Talk
DESCRIPTION:Teen Talk – Saturday’s Teen Talk – 10:00 a.m.\nZOOM
URL:https://messiahmbc.org/events/teen-talk-2/2022-10-15/
CATEGORIES:Church,Ministry
ATTACH;FMTTYPE=image/jpeg:https://messiahmbc.org/wp-content/uploads/2022/05/praise.jpg
END:VEVENT
BEGIN:VEVENT
DTSTART;TZID=America/Detroit:20221013T183000
DTEND;TZID=America/Detroit:20221013T190000
DTSTAMP:20260425T224124
CREATED:20220701T021844Z
LAST-MODIFIED:20220701T021844Z
UID:10000897-1665685800-1665687600@messiahmbc.org
SUMMARY:Men’s Connection
DESCRIPTION:Men’s Connection
URL:https://messiahmbc.org/events/mens-connection-3/2022-10-13/
CATEGORIES:Church,Ministry
ATTACH;FMTTYPE=image/jpeg:https://messiahmbc.org/wp-content/uploads/2022/05/blk-hand.jpg
END:VEVENT
BEGIN:VEVENT
DTSTART;TZID=America/Detroit:20221012T180000
DTEND;TZID=America/Detroit:20221012T190000
DTSTAMP:20260425T224124
CREATED:20220624T184350Z
LAST-MODIFIED:20220922T000359Z
UID:10000681-1665597600-1665601200@messiahmbc.org
SUMMARY:Bible Training For Ministry (Every Wednesday)
DESCRIPTION:Bible Training Ministry\nWednesdays– 6:00 p.m. via Zoom
URL:https://messiahmbc.org/events/bible-training-ministry-wednesday-2022-09-21/2022-10-12/
ATTACH;FMTTYPE=image/jpeg:https://messiahmbc.org/wp-content/uploads/2022/06/bible-study-Flyer-II.jpg
END:VEVENT
BEGIN:VEVENT
DTSTART;TZID=America/Detroit:20221011T180000
DTEND;TZID=America/Detroit:20221011T190000
DTSTAMP:20260425T224124
CREATED:20220701T011421Z
LAST-MODIFIED:20220829T155156Z
UID:10000739-1665511200-1665514800@messiahmbc.org
SUMMARY:Evening Glory Prayer
DESCRIPTION:Evening Glory Prayer Conference Call\nTelephone Number – 302-202-1118\nAccess Code – 307379#
URL:https://messiahmbc.org/events/evening-glory-prayer-2-2022-09-20/2022-10-11/
CATEGORIES:Church,Ministry
ATTACH;FMTTYPE=image/jpeg:https://messiahmbc.org/wp-content/uploads/2015/02/postphoto17.jpg
END:VEVENT
BEGIN:VEVENT
DTSTART;TZID=America/Detroit:20221011T060000
DTEND;TZID=America/Detroit:20221011T070000
DTSTAMP:20260425T224124
CREATED:20220701T011835Z
LAST-MODIFIED:20220829T155049Z
UID:10000791-1665468000-1665471600@messiahmbc.org
SUMMARY:Morning Glory Prayer
DESCRIPTION:Morning Glory Prayer Conference Call\nTelephone Number – 302-202-1118\nAccess Code – 307379# \n 
URL:https://messiahmbc.org/events/morning-glory-prayer-2-2022-09-20/2022-10-11/
CATEGORIES:Church,Ministry
ATTACH;FMTTYPE=image/jpeg:https://messiahmbc.org/wp-content/uploads/2022/05/making-time-for-god012214.jpg
END:VEVENT
BEGIN:VEVENT
DTSTART;TZID=America/Detroit:20221010T180000
DTEND;TZID=America/Detroit:20221010T180000
DTSTAMP:20260425T224124
CREATED:20220701T012328Z
LAST-MODIFIED:20220701T015014Z
UID:10000831-1665424800-1665424800@messiahmbc.org
SUMMARY:Womens Ministry Mondays
DESCRIPTION:Women’s Ministry Mondays 6:00 p.m. with\nPastor\, Rev. Orville K. Littlejohn – via ZOOM
URL:https://messiahmbc.org/events/womens-ministry-mondays/2022-10-10/
CATEGORIES:Church,Ministry
ATTACH;FMTTYPE=image/jpeg:https://messiahmbc.org/wp-content/uploads/2015/04/ichthys-home-banner.jpg
END:VEVENT
BEGIN:VEVENT
DTSTART;TZID=America/Detroit:20221008T100000
DTEND;TZID=America/Detroit:20221008T110000
DTSTAMP:20260425T224124
CREATED:20220701T021246Z
LAST-MODIFIED:20220701T021427Z
UID:10000855-1665223200-1665226800@messiahmbc.org
SUMMARY:Teen Talk
DESCRIPTION:Teen Talk – Saturday’s Teen Talk – 10:00 a.m.\nZOOM
URL:https://messiahmbc.org/events/teen-talk-2/2022-10-08/
CATEGORIES:Church,Ministry
ATTACH;FMTTYPE=image/jpeg:https://messiahmbc.org/wp-content/uploads/2022/05/praise.jpg
END:VEVENT
BEGIN:VEVENT
DTSTART;TZID=America/Detroit:20221007T180000
DTEND;TZID=America/Detroit:20221007T200000
DTSTAMP:20260425T224124
CREATED:20220920T153534Z
LAST-MODIFIED:20220920T153534Z
UID:10000951-1665165600-1665172800@messiahmbc.org
SUMMARY:Michigan District Baptist Association Leadership Installation Service
DESCRIPTION:COVID PROTOCOL:  Mask must be work at all times while in the building.  Social Distancing enforced and temperature checks performed.
URL:https://messiahmbc.org/events/michigan-district-baptist-association-leadership-installation-service/
LOCATION:Messiah Baptist Church\, 8100 W. Seven Mile Road\, Detroit\, MI\, 48221\, United States
ATTACH;FMTTYPE=image/jpeg:https://messiahmbc.org/wp-content/uploads/2022/09/MDBA-Installation-Service-Presentation-FINAL.jpg
END:VEVENT
BEGIN:VEVENT
DTSTART;TZID=America/Detroit:20221006T183000
DTEND;TZID=America/Detroit:20221006T190000
DTSTAMP:20260425T224124
CREATED:20220701T021844Z
LAST-MODIFIED:20220701T021844Z
UID:10000896-1665081000-1665082800@messiahmbc.org
SUMMARY:Men’s Connection
DESCRIPTION:Men’s Connection
URL:https://messiahmbc.org/events/mens-connection-3/2022-10-06/
CATEGORIES:Church,Ministry
ATTACH;FMTTYPE=image/jpeg:https://messiahmbc.org/wp-content/uploads/2022/05/blk-hand.jpg
END:VEVENT
BEGIN:VEVENT
DTSTART;TZID=America/Detroit:20221006T180000
DTEND;TZID=America/Detroit:20221006T200000
DTSTAMP:20260425T224124
CREATED:20221002T152629Z
LAST-MODIFIED:20221002T152629Z
UID:10000956-1665079200-1665086400@messiahmbc.org
SUMMARY:2022 KIRBY-TERRELL FALL INSTITUTE
DESCRIPTION:The BM&E will host:  2022 Kirby-Terrell Fall Institute (3- Day Virtual Event) \nTHEME:  LEADERSHIP MATTERS – PSALM  78:72; LUKE 6:39 \nZOOM ID:  815 7742 4493 \nPASSCODE:  283227 \nALL ARE WELCOME TO ATTEND! \n 
URL:https://messiahmbc.org/events/2022-kirby-terrell-fall-institute/2022-10-06/
ATTACH;FMTTYPE=image/jpeg:https://messiahmbc.org/wp-content/uploads/2022/10/KIRBY-TERRELL-FLYER-2022.jpg
END:VEVENT
BEGIN:VEVENT
DTSTART;TZID=America/Detroit:20221005T180000
DTEND;TZID=America/Detroit:20221005T200000
DTSTAMP:20260425T224124
CREATED:20221002T152629Z
LAST-MODIFIED:20221002T152629Z
UID:10000955-1664992800-1665000000@messiahmbc.org
SUMMARY:2022 KIRBY-TERRELL FALL INSTITUTE
DESCRIPTION:The BM&E will host:  2022 Kirby-Terrell Fall Institute (3- Day Virtual Event) \nTHEME:  LEADERSHIP MATTERS – PSALM  78:72; LUKE 6:39 \nZOOM ID:  815 7742 4493 \nPASSCODE:  283227 \nALL ARE WELCOME TO ATTEND! \n 
URL:https://messiahmbc.org/events/2022-kirby-terrell-fall-institute/2022-10-05/
ATTACH;FMTTYPE=image/jpeg:https://messiahmbc.org/wp-content/uploads/2022/10/KIRBY-TERRELL-FLYER-2022.jpg
END:VEVENT
BEGIN:VEVENT
DTSTART;TZID=America/Detroit:20221005T180000
DTEND;TZID=America/Detroit:20221005T190000
DTSTAMP:20260425T224124
CREATED:20220624T184350Z
LAST-MODIFIED:20220922T000359Z
UID:10000680-1664992800-1664996400@messiahmbc.org
SUMMARY:Bible Training For Ministry (Every Wednesday)
DESCRIPTION:Bible Training Ministry\nWednesdays– 6:00 p.m. via Zoom
URL:https://messiahmbc.org/events/bible-training-ministry-wednesday-2022-09-21/2022-10-05/
ATTACH;FMTTYPE=image/jpeg:https://messiahmbc.org/wp-content/uploads/2022/06/bible-study-Flyer-II.jpg
END:VEVENT
BEGIN:VEVENT
DTSTART;TZID=America/Detroit:20221004T180000
DTEND;TZID=America/Detroit:20221004T200000
DTSTAMP:20260425T224124
CREATED:20221002T152629Z
LAST-MODIFIED:20221002T152629Z
UID:10000954-1664906400-1664913600@messiahmbc.org
SUMMARY:2022 KIRBY-TERRELL FALL INSTITUTE
DESCRIPTION:The BM&E will host:  2022 Kirby-Terrell Fall Institute (3- Day Virtual Event) \nTHEME:  LEADERSHIP MATTERS – PSALM  78:72; LUKE 6:39 \nZOOM ID:  815 7742 4493 \nPASSCODE:  283227 \nALL ARE WELCOME TO ATTEND! \n 
URL:https://messiahmbc.org/events/2022-kirby-terrell-fall-institute/2022-10-04/
ATTACH;FMTTYPE=image/jpeg:https://messiahmbc.org/wp-content/uploads/2022/10/KIRBY-TERRELL-FLYER-2022.jpg
END:VEVENT
END:VCALENDAR