BEGIN:VCALENDAR
VERSION:2.0
PRODID:-//Messiah Baptist Church - ECPv6.14.0//NONSGML v1.0//EN
CALSCALE:GREGORIAN
METHOD:PUBLISH
X-WR-CALNAME:Messiah Baptist Church
X-ORIGINAL-URL:https://messiahmbc.org
X-WR-CALDESC:Events for Messiah Baptist Church
REFRESH-INTERVAL;VALUE=DURATION:PT1H
X-Robots-Tag:noindex
X-PUBLISHED-TTL:PT1H
BEGIN:VTIMEZONE
TZID:America/Detroit
BEGIN:DAYLIGHT
TZOFFSETFROM:-0500
TZOFFSETTO:-0400
TZNAME:EDT
DTSTART:20230312T070000
END:DAYLIGHT
BEGIN:STANDARD
TZOFFSETFROM:-0400
TZOFFSETTO:-0500
TZNAME:EST
DTSTART:20231105T060000
END:STANDARD
END:VTIMEZONE
BEGIN:VEVENT
DTSTART;TZID=America/Detroit:20230704T180000
DTEND;TZID=America/Detroit:20230704T190000
DTSTAMP:20260419T140750
CREATED:20220701T011421Z
LAST-MODIFIED:20220829T155156Z
UID:10000777-1688493600-1688497200@messiahmbc.org
SUMMARY:Evening Glory Prayer
DESCRIPTION:Evening Glory Prayer Conference Call\nTelephone Number – 302-202-1118\nAccess Code – 307379#
URL:https://messiahmbc.org/events/evening-glory-prayer-2-2022-09-20/2023-07-04/
LOCATION:MI
CATEGORIES:Church,Ministry
ATTACH;FMTTYPE=image/jpeg:https://messiahmbc.org/wp-content/uploads/2015/02/postphoto17.jpg
END:VEVENT
BEGIN:VEVENT
DTSTART;TZID=America/Detroit:20230630T183000
DTEND;TZID=America/Detroit:20230630T193000
DTSTAMP:20260419T140750
CREATED:20220629T152637Z
LAST-MODIFIED:20230319T005652Z
UID:10000735-1688149800-1688153400@messiahmbc.org
SUMMARY:Family FUN Friday
DESCRIPTION:Family Favored Friday is NOW… FAMILY FUN FRIDAY! \nGatherings will take place\, the last Friday of each month at 6:30pm via ZOOM. \nJoin us\, as we STAY connected as Brothers and Sisters in Christ. \n\nMeeting ID: 898 0182 7454\nPasscode: 969144
URL:https://messiahmbc.org/events/family-favored-friday-2/2023-06-30/
LOCATION:MI
CATEGORIES:Church,Ministry
ATTACH;FMTTYPE=image/jpeg:https://messiahmbc.org/wp-content/uploads/2022/06/FAMILY-FUN-FRIDAY-3.jpg
END:VEVENT
BEGIN:VEVENT
DTSTART;TZID=America/Detroit:20230629T183000
DTEND;TZID=America/Detroit:20230629T190000
DTSTAMP:20260419T140750
CREATED:20220701T021844Z
LAST-MODIFIED:20220701T021844Z
UID:10000934-1688063400-1688065200@messiahmbc.org
SUMMARY:Men’s Connection
DESCRIPTION:Men’s Connection
URL:https://messiahmbc.org/events/mens-connection-3/2023-06-29/
LOCATION:MI
CATEGORIES:Church,Ministry
ATTACH;FMTTYPE=image/jpeg:https://messiahmbc.org/wp-content/uploads/2022/05/blk-hand.jpg
END:VEVENT
BEGIN:VEVENT
DTSTART;TZID=America/Detroit:20230628T180000
DTEND;TZID=America/Detroit:20230628T190000
DTSTAMP:20260419T140750
CREATED:20220624T184350Z
LAST-MODIFIED:20220922T000359Z
UID:10000718-1687975200-1687978800@messiahmbc.org
SUMMARY:Bible Training For Ministry (Every Wednesday)
DESCRIPTION:Bible Training Ministry\nWednesdays– 6:00 p.m. via Zoom
URL:https://messiahmbc.org/events/bible-training-ministry-wednesday-2022-09-21/2023-06-28/
LOCATION:MI
ATTACH;FMTTYPE=image/jpeg:https://messiahmbc.org/wp-content/uploads/2022/06/bible-study-Flyer-II.jpg
END:VEVENT
BEGIN:VEVENT
DTSTART;TZID=America/Detroit:20230627T180000
DTEND;TZID=America/Detroit:20230627T190000
DTSTAMP:20260419T140750
CREATED:20220701T011421Z
LAST-MODIFIED:20220829T155156Z
UID:10000776-1687888800-1687892400@messiahmbc.org
SUMMARY:Evening Glory Prayer
DESCRIPTION:Evening Glory Prayer Conference Call\nTelephone Number – 302-202-1118\nAccess Code – 307379#
URL:https://messiahmbc.org/events/evening-glory-prayer-2-2022-09-20/2023-06-27/
LOCATION:MI
CATEGORIES:Church,Ministry
ATTACH;FMTTYPE=image/jpeg:https://messiahmbc.org/wp-content/uploads/2015/02/postphoto17.jpg
END:VEVENT
BEGIN:VEVENT
DTSTART;TZID=America/Detroit:20230627T060000
DTEND;TZID=America/Detroit:20230627T070000
DTSTAMP:20260419T140750
CREATED:20220701T011835Z
LAST-MODIFIED:20220829T155049Z
UID:10000828-1687845600-1687849200@messiahmbc.org
SUMMARY:Morning Glory Prayer
DESCRIPTION:Morning Glory Prayer Conference Call\nTelephone Number – 302-202-1118\nAccess Code – 307379# \n 
URL:https://messiahmbc.org/events/morning-glory-prayer-2-2022-09-20/2023-06-27/
LOCATION:MI
CATEGORIES:Church,Ministry
ATTACH;FMTTYPE=image/jpeg:https://messiahmbc.org/wp-content/uploads/2022/05/making-time-for-god012214.jpg
END:VEVENT
BEGIN:VEVENT
DTSTART;TZID=America/Detroit:20230624T100000
DTEND;TZID=America/Detroit:20230624T110000
DTSTAMP:20260419T140750
CREATED:20220701T021246Z
LAST-MODIFIED:20220701T021427Z
UID:10000892-1687600800-1687604400@messiahmbc.org
SUMMARY:Teen Talk
DESCRIPTION:Teen Talk – Saturday’s Teen Talk – 10:00 a.m.\nZOOM
URL:https://messiahmbc.org/events/teen-talk-2/2023-06-24/
LOCATION:MI
CATEGORIES:Church,Ministry
ATTACH;FMTTYPE=image/jpeg:https://messiahmbc.org/wp-content/uploads/2022/05/praise.jpg
END:VEVENT
BEGIN:VEVENT
DTSTART;TZID=America/Detroit:20230622T183000
DTEND;TZID=America/Detroit:20230622T190000
DTSTAMP:20260419T140750
CREATED:20220701T021844Z
LAST-MODIFIED:20220701T021844Z
UID:10000933-1687458600-1687460400@messiahmbc.org
SUMMARY:Men’s Connection
DESCRIPTION:Men’s Connection
URL:https://messiahmbc.org/events/mens-connection-3/2023-06-22/
LOCATION:MI
CATEGORIES:Church,Ministry
ATTACH;FMTTYPE=image/jpeg:https://messiahmbc.org/wp-content/uploads/2022/05/blk-hand.jpg
END:VEVENT
BEGIN:VEVENT
DTSTART;TZID=America/Detroit:20230621T180000
DTEND;TZID=America/Detroit:20230621T190000
DTSTAMP:20260419T140750
CREATED:20220624T184350Z
LAST-MODIFIED:20220922T000359Z
UID:10000717-1687370400-1687374000@messiahmbc.org
SUMMARY:Bible Training For Ministry (Every Wednesday)
DESCRIPTION:Bible Training Ministry\nWednesdays– 6:00 p.m. via Zoom
URL:https://messiahmbc.org/events/bible-training-ministry-wednesday-2022-09-21/2023-06-21/
LOCATION:MI
ATTACH;FMTTYPE=image/jpeg:https://messiahmbc.org/wp-content/uploads/2022/06/bible-study-Flyer-II.jpg
END:VEVENT
BEGIN:VEVENT
DTSTART;TZID=America/Detroit:20230620T180000
DTEND;TZID=America/Detroit:20230620T190000
DTSTAMP:20260419T140750
CREATED:20220701T011421Z
LAST-MODIFIED:20220829T155156Z
UID:10000775-1687284000-1687287600@messiahmbc.org
SUMMARY:Evening Glory Prayer
DESCRIPTION:Evening Glory Prayer Conference Call\nTelephone Number – 302-202-1118\nAccess Code – 307379#
URL:https://messiahmbc.org/events/evening-glory-prayer-2-2022-09-20/2023-06-20/
LOCATION:MI
CATEGORIES:Church,Ministry
ATTACH;FMTTYPE=image/jpeg:https://messiahmbc.org/wp-content/uploads/2015/02/postphoto17.jpg
END:VEVENT
BEGIN:VEVENT
DTSTART;TZID=America/Detroit:20230620T060000
DTEND;TZID=America/Detroit:20230620T070000
DTSTAMP:20260419T140750
CREATED:20220701T011835Z
LAST-MODIFIED:20220829T155049Z
UID:10000827-1687240800-1687244400@messiahmbc.org
SUMMARY:Morning Glory Prayer
DESCRIPTION:Morning Glory Prayer Conference Call\nTelephone Number – 302-202-1118\nAccess Code – 307379# \n 
URL:https://messiahmbc.org/events/morning-glory-prayer-2-2022-09-20/2023-06-20/
LOCATION:MI
CATEGORIES:Church,Ministry
ATTACH;FMTTYPE=image/jpeg:https://messiahmbc.org/wp-content/uploads/2022/05/making-time-for-god012214.jpg
END:VEVENT
BEGIN:VEVENT
DTSTART;TZID=America/Detroit:20230617T100000
DTEND;TZID=America/Detroit:20230617T110000
DTSTAMP:20260419T140750
CREATED:20220701T021246Z
LAST-MODIFIED:20220701T021427Z
UID:10000891-1686996000-1686999600@messiahmbc.org
SUMMARY:Teen Talk
DESCRIPTION:Teen Talk – Saturday’s Teen Talk – 10:00 a.m.\nZOOM
URL:https://messiahmbc.org/events/teen-talk-2/2023-06-17/
LOCATION:MI
CATEGORIES:Church,Ministry
ATTACH;FMTTYPE=image/jpeg:https://messiahmbc.org/wp-content/uploads/2022/05/praise.jpg
END:VEVENT
BEGIN:VEVENT
DTSTART;TZID=America/Detroit:20230615T183000
DTEND;TZID=America/Detroit:20230615T190000
DTSTAMP:20260419T140750
CREATED:20220701T021844Z
LAST-MODIFIED:20220701T021844Z
UID:10000932-1686853800-1686855600@messiahmbc.org
SUMMARY:Men’s Connection
DESCRIPTION:Men’s Connection
URL:https://messiahmbc.org/events/mens-connection-3/2023-06-15/
LOCATION:MI
CATEGORIES:Church,Ministry
ATTACH;FMTTYPE=image/jpeg:https://messiahmbc.org/wp-content/uploads/2022/05/blk-hand.jpg
END:VEVENT
BEGIN:VEVENT
DTSTART;TZID=America/Detroit:20230614T180000
DTEND;TZID=America/Detroit:20230614T190000
DTSTAMP:20260419T140750
CREATED:20220624T184350Z
LAST-MODIFIED:20220922T000359Z
UID:10000716-1686765600-1686769200@messiahmbc.org
SUMMARY:Bible Training For Ministry (Every Wednesday)
DESCRIPTION:Bible Training Ministry\nWednesdays– 6:00 p.m. via Zoom
URL:https://messiahmbc.org/events/bible-training-ministry-wednesday-2022-09-21/2023-06-14/
LOCATION:MI
ATTACH;FMTTYPE=image/jpeg:https://messiahmbc.org/wp-content/uploads/2022/06/bible-study-Flyer-II.jpg
END:VEVENT
BEGIN:VEVENT
DTSTART;TZID=America/Detroit:20230613T180000
DTEND;TZID=America/Detroit:20230613T190000
DTSTAMP:20260419T140750
CREATED:20220701T011421Z
LAST-MODIFIED:20220829T155156Z
UID:10000774-1686679200-1686682800@messiahmbc.org
SUMMARY:Evening Glory Prayer
DESCRIPTION:Evening Glory Prayer Conference Call\nTelephone Number – 302-202-1118\nAccess Code – 307379#
URL:https://messiahmbc.org/events/evening-glory-prayer-2-2022-09-20/2023-06-13/
LOCATION:MI
CATEGORIES:Church,Ministry
ATTACH;FMTTYPE=image/jpeg:https://messiahmbc.org/wp-content/uploads/2015/02/postphoto17.jpg
END:VEVENT
BEGIN:VEVENT
DTSTART;TZID=America/Detroit:20230613T060000
DTEND;TZID=America/Detroit:20230613T070000
DTSTAMP:20260419T140750
CREATED:20220701T011835Z
LAST-MODIFIED:20220829T155049Z
UID:10000826-1686636000-1686639600@messiahmbc.org
SUMMARY:Morning Glory Prayer
DESCRIPTION:Morning Glory Prayer Conference Call\nTelephone Number – 302-202-1118\nAccess Code – 307379# \n 
URL:https://messiahmbc.org/events/morning-glory-prayer-2-2022-09-20/2023-06-13/
LOCATION:MI
CATEGORIES:Church,Ministry
ATTACH;FMTTYPE=image/jpeg:https://messiahmbc.org/wp-content/uploads/2022/05/making-time-for-god012214.jpg
END:VEVENT
BEGIN:VEVENT
DTSTART;TZID=America/Detroit:20230611T103000
DTEND;TZID=America/Detroit:20230611T113000
DTSTAMP:20260419T140750
CREATED:20220602T135824Z
LAST-MODIFIED:20221111T005242Z
UID:10000669-1686479400-1686483000@messiahmbc.org
SUMMARY:B.L.A.S.T.
DESCRIPTION:B.L.A.S.T.\n2nd and 4th Sundays – 10:30 a.m. – Scott Fellowship Hall ( On-Site)
URL:https://messiahmbc.org/events/b-l-a-s-t/2023-06-11/
LOCATION:MI
END:VEVENT
BEGIN:VEVENT
DTSTART;TZID=America/Detroit:20230610T100000
DTEND;TZID=America/Detroit:20230610T110000
DTSTAMP:20260419T140750
CREATED:20220701T021246Z
LAST-MODIFIED:20220701T021427Z
UID:10000890-1686391200-1686394800@messiahmbc.org
SUMMARY:Teen Talk
DESCRIPTION:Teen Talk – Saturday’s Teen Talk – 10:00 a.m.\nZOOM
URL:https://messiahmbc.org/events/teen-talk-2/2023-06-10/
LOCATION:MI
CATEGORIES:Church,Ministry
ATTACH;FMTTYPE=image/jpeg:https://messiahmbc.org/wp-content/uploads/2022/05/praise.jpg
END:VEVENT
BEGIN:VEVENT
DTSTART;TZID=America/Detroit:20230608T183000
DTEND;TZID=America/Detroit:20230608T190000
DTSTAMP:20260419T140750
CREATED:20220701T021844Z
LAST-MODIFIED:20220701T021844Z
UID:10000931-1686249000-1686250800@messiahmbc.org
SUMMARY:Men’s Connection
DESCRIPTION:Men’s Connection
URL:https://messiahmbc.org/events/mens-connection-3/2023-06-08/
LOCATION:MI
CATEGORIES:Church,Ministry
ATTACH;FMTTYPE=image/jpeg:https://messiahmbc.org/wp-content/uploads/2022/05/blk-hand.jpg
END:VEVENT
BEGIN:VEVENT
DTSTART;TZID=America/Detroit:20230607T180000
DTEND;TZID=America/Detroit:20230607T190000
DTSTAMP:20260419T140750
CREATED:20220624T184350Z
LAST-MODIFIED:20220922T000359Z
UID:10000715-1686160800-1686164400@messiahmbc.org
SUMMARY:Bible Training For Ministry (Every Wednesday)
DESCRIPTION:Bible Training Ministry\nWednesdays– 6:00 p.m. via Zoom
URL:https://messiahmbc.org/events/bible-training-ministry-wednesday-2022-09-21/2023-06-07/
LOCATION:MI
ATTACH;FMTTYPE=image/jpeg:https://messiahmbc.org/wp-content/uploads/2022/06/bible-study-Flyer-II.jpg
END:VEVENT
BEGIN:VEVENT
DTSTART;TZID=America/Detroit:20230606T180000
DTEND;TZID=America/Detroit:20230606T190000
DTSTAMP:20260419T140750
CREATED:20220701T011421Z
LAST-MODIFIED:20220829T155156Z
UID:10000773-1686074400-1686078000@messiahmbc.org
SUMMARY:Evening Glory Prayer
DESCRIPTION:Evening Glory Prayer Conference Call\nTelephone Number – 302-202-1118\nAccess Code – 307379#
URL:https://messiahmbc.org/events/evening-glory-prayer-2-2022-09-20/2023-06-06/
LOCATION:MI
CATEGORIES:Church,Ministry
ATTACH;FMTTYPE=image/jpeg:https://messiahmbc.org/wp-content/uploads/2015/02/postphoto17.jpg
END:VEVENT
BEGIN:VEVENT
DTSTART;TZID=America/Detroit:20230606T060000
DTEND;TZID=America/Detroit:20230606T070000
DTSTAMP:20260419T140750
CREATED:20220701T011835Z
LAST-MODIFIED:20220829T155049Z
UID:10000825-1686031200-1686034800@messiahmbc.org
SUMMARY:Morning Glory Prayer
DESCRIPTION:Morning Glory Prayer Conference Call\nTelephone Number – 302-202-1118\nAccess Code – 307379# \n 
URL:https://messiahmbc.org/events/morning-glory-prayer-2-2022-09-20/2023-06-06/
LOCATION:MI
CATEGORIES:Church,Ministry
ATTACH;FMTTYPE=image/jpeg:https://messiahmbc.org/wp-content/uploads/2022/05/making-time-for-god012214.jpg
END:VEVENT
BEGIN:VEVENT
DTSTART;TZID=America/Detroit:20230605T180000
DTEND;TZID=America/Detroit:20230605T180000
DTSTAMP:20260419T140750
CREATED:20220701T012328Z
LAST-MODIFIED:20220701T015014Z
UID:10000848-1685988000-1685988000@messiahmbc.org
SUMMARY:Womens Ministry Mondays
DESCRIPTION:Women’s Ministry Mondays 6:00 p.m. with\nPastor\, Rev. Orville K. Littlejohn – via ZOOM
URL:https://messiahmbc.org/events/womens-ministry-mondays/2023-06-05/
LOCATION:MI
CATEGORIES:Church,Ministry
ATTACH;FMTTYPE=image/jpeg:https://messiahmbc.org/wp-content/uploads/2015/04/ichthys-home-banner.jpg
END:VEVENT
BEGIN:VEVENT
DTSTART;TZID=America/Detroit:20230603T100000
DTEND;TZID=America/Detroit:20230603T110000
DTSTAMP:20260419T140750
CREATED:20220701T021246Z
LAST-MODIFIED:20220701T021427Z
UID:10000889-1685786400-1685790000@messiahmbc.org
SUMMARY:Teen Talk
DESCRIPTION:Teen Talk – Saturday’s Teen Talk – 10:00 a.m.\nZOOM
URL:https://messiahmbc.org/events/teen-talk-2/2023-06-03/
LOCATION:MI
CATEGORIES:Church,Ministry
ATTACH;FMTTYPE=image/jpeg:https://messiahmbc.org/wp-content/uploads/2022/05/praise.jpg
END:VEVENT
BEGIN:VEVENT
DTSTART;TZID=America/Detroit:20230601T183000
DTEND;TZID=America/Detroit:20230601T190000
DTSTAMP:20260419T140750
CREATED:20220701T021844Z
LAST-MODIFIED:20220701T021844Z
UID:10000930-1685644200-1685646000@messiahmbc.org
SUMMARY:Men’s Connection
DESCRIPTION:Men’s Connection
URL:https://messiahmbc.org/events/mens-connection-3/2023-06-01/
LOCATION:MI
CATEGORIES:Church,Ministry
ATTACH;FMTTYPE=image/jpeg:https://messiahmbc.org/wp-content/uploads/2022/05/blk-hand.jpg
END:VEVENT
BEGIN:VEVENT
DTSTART;TZID=America/Detroit:20230531T180000
DTEND;TZID=America/Detroit:20230531T190000
DTSTAMP:20260419T140750
CREATED:20220624T184350Z
LAST-MODIFIED:20220922T000359Z
UID:10000714-1685556000-1685559600@messiahmbc.org
SUMMARY:Bible Training For Ministry (Every Wednesday)
DESCRIPTION:Bible Training Ministry\nWednesdays– 6:00 p.m. via Zoom
URL:https://messiahmbc.org/events/bible-training-ministry-wednesday-2022-09-21/2023-05-31/
LOCATION:MI
ATTACH;FMTTYPE=image/jpeg:https://messiahmbc.org/wp-content/uploads/2022/06/bible-study-Flyer-II.jpg
END:VEVENT
BEGIN:VEVENT
DTSTART;TZID=America/Detroit:20230530T180000
DTEND;TZID=America/Detroit:20230530T190000
DTSTAMP:20260419T140750
CREATED:20220701T011421Z
LAST-MODIFIED:20220829T155156Z
UID:10000772-1685469600-1685473200@messiahmbc.org
SUMMARY:Evening Glory Prayer
DESCRIPTION:Evening Glory Prayer Conference Call\nTelephone Number – 302-202-1118\nAccess Code – 307379#
URL:https://messiahmbc.org/events/evening-glory-prayer-2-2022-09-20/2023-05-30/
LOCATION:MI
CATEGORIES:Church,Ministry
ATTACH;FMTTYPE=image/jpeg:https://messiahmbc.org/wp-content/uploads/2015/02/postphoto17.jpg
END:VEVENT
BEGIN:VEVENT
DTSTART;TZID=America/Detroit:20230530T060000
DTEND;TZID=America/Detroit:20230530T070000
DTSTAMP:20260419T140750
CREATED:20220701T011835Z
LAST-MODIFIED:20220829T155049Z
UID:10000824-1685426400-1685430000@messiahmbc.org
SUMMARY:Morning Glory Prayer
DESCRIPTION:Morning Glory Prayer Conference Call\nTelephone Number – 302-202-1118\nAccess Code – 307379# \n 
URL:https://messiahmbc.org/events/morning-glory-prayer-2-2022-09-20/2023-05-30/
LOCATION:MI
CATEGORIES:Church,Ministry
ATTACH;FMTTYPE=image/jpeg:https://messiahmbc.org/wp-content/uploads/2022/05/making-time-for-god012214.jpg
END:VEVENT
BEGIN:VEVENT
DTSTART;TZID=America/Detroit:20230528T103000
DTEND;TZID=America/Detroit:20230528T113000
DTSTAMP:20260419T140750
CREATED:20250715T125700Z
LAST-MODIFIED:20250715T125700Z
UID:10000676-1685269800-1685273400@messiahmbc.org
SUMMARY:B.L.A.S.T.
DESCRIPTION:B.L.A.S.T.\n2nd and 4th Sundays – 10:30 a.m. – Scott Fellowship Hall ( On-Site)
URL:https://messiahmbc.org/events/b-l-a-s-t/2023-05-28/
LOCATION:MI
END:VEVENT
BEGIN:VEVENT
DTSTART;TZID=America/Detroit:20230527T100000
DTEND;TZID=America/Detroit:20230527T110000
DTSTAMP:20260419T140750
CREATED:20220701T021246Z
LAST-MODIFIED:20220701T021427Z
UID:10000888-1685181600-1685185200@messiahmbc.org
SUMMARY:Teen Talk
DESCRIPTION:Teen Talk – Saturday’s Teen Talk – 10:00 a.m.\nZOOM
URL:https://messiahmbc.org/events/teen-talk-2/2023-05-27/
LOCATION:MI
CATEGORIES:Church,Ministry
ATTACH;FMTTYPE=image/jpeg:https://messiahmbc.org/wp-content/uploads/2022/05/praise.jpg
END:VEVENT
END:VCALENDAR