BEGIN:VCALENDAR
VERSION:2.0
PRODID:-//Messiah Baptist Church - ECPv6.14.0//NONSGML v1.0//EN
CALSCALE:GREGORIAN
METHOD:PUBLISH
X-WR-CALNAME:Messiah Baptist Church
X-ORIGINAL-URL:https://messiahmbc.org
X-WR-CALDESC:Events for Messiah Baptist Church
REFRESH-INTERVAL;VALUE=DURATION:PT1H
X-Robots-Tag:noindex
X-PUBLISHED-TTL:PT1H
BEGIN:VTIMEZONE
TZID:Europe/Helsinki
BEGIN:DAYLIGHT
TZOFFSETFROM:+0200
TZOFFSETTO:+0300
TZNAME:EEST
DTSTART:20250330T010000
END:DAYLIGHT
BEGIN:STANDARD
TZOFFSETFROM:+0300
TZOFFSETTO:+0200
TZNAME:EET
DTSTART:20251026T010000
END:STANDARD
END:VTIMEZONE
BEGIN:VTIMEZONE
TZID:America/Detroit
BEGIN:DAYLIGHT
TZOFFSETFROM:-0500
TZOFFSETTO:-0400
TZNAME:EDT
DTSTART:20250309T070000
END:DAYLIGHT
BEGIN:STANDARD
TZOFFSETFROM:-0400
TZOFFSETTO:-0500
TZNAME:EST
DTSTART:20251102T060000
END:STANDARD
END:VTIMEZONE
BEGIN:VEVENT
DTSTART;TZID=Europe/Helsinki:20250803T103000
DTEND;TZID=Europe/Helsinki:20250803T120000
DTSTAMP:20260421T120811
CREATED:20250720T153412Z
LAST-MODIFIED:20250914T153950Z
UID:10000610-1754217000-1754222400@messiahmbc.org
SUMMARY:Sunday Worship Service
DESCRIPTION:
URL:https://messiahmbc.org/events/sunday-worship-service-2/2025-08-03/
LOCATION:Messiah Baptist Church\, 8100 W. Seven Mile Road\, Detroit\, MI\, 48221\, United States
CATEGORIES:Church,Ministry
ATTACH;FMTTYPE=image/jpeg:https://messiahmbc.org/wp-content/uploads/2022/05/EVANGELISM-e1662853404873.jpg
END:VEVENT
BEGIN:VEVENT
DTSTART;TZID=Europe/Helsinki:20250810T103000
DTEND;TZID=Europe/Helsinki:20250810T120000
DTSTAMP:20260421T120811
CREATED:20250720T153412Z
LAST-MODIFIED:20250914T153950Z
UID:10000611-1754821800-1754827200@messiahmbc.org
SUMMARY:Sunday Worship Service
DESCRIPTION:
URL:https://messiahmbc.org/events/sunday-worship-service-2/2025-08-10/
LOCATION:Messiah Baptist Church\, 8100 W. Seven Mile Road\, Detroit\, MI\, 48221\, United States
CATEGORIES:Church,Ministry
ATTACH;FMTTYPE=image/jpeg:https://messiahmbc.org/wp-content/uploads/2022/05/EVANGELISM-e1662853404873.jpg
END:VEVENT
BEGIN:VEVENT
DTSTART;TZID=America/Detroit:20250811T180000
DTEND;TZID=America/Detroit:20250811T190000
DTSTAMP:20260421T120811
CREATED:20250727T162105Z
LAST-MODIFIED:20250810T164535Z
UID:10000849-1754935200-1754938800@messiahmbc.org
SUMMARY:Women's Ministry Meeting
DESCRIPTION:Women’s Ministry Meeting 6:00 p.m. via ZOOM \nhttps://us02web.zoom.us/j/2836388958?pwd=HvZ5Um6CkTbFngcnbx3Q4XMMOWqma3.1&omn=82233311025
URL:https://messiahmbc.org/events/womens-ministry-mondays-2/
LOCATION:MI
CATEGORIES:Church,Ministry
ATTACH;FMTTYPE=image/jpeg:https://messiahmbc.org/wp-content/uploads/2025/07/INTERNATIONAL-WOMENS-DAY-TEMPLATE.jpg
END:VEVENT
BEGIN:VEVENT
DTSTART;TZID=Europe/Helsinki:20250817T103000
DTEND;TZID=Europe/Helsinki:20250817T120000
DTSTAMP:20260421T120811
CREATED:20250720T153412Z
LAST-MODIFIED:20250914T153950Z
UID:10000612-1755426600-1755432000@messiahmbc.org
SUMMARY:Sunday Worship Service
DESCRIPTION:
URL:https://messiahmbc.org/events/sunday-worship-service-2/2025-08-17/
LOCATION:Messiah Baptist Church\, 8100 W. Seven Mile Road\, Detroit\, MI\, 48221\, United States
CATEGORIES:Church,Ministry
ATTACH;FMTTYPE=image/jpeg:https://messiahmbc.org/wp-content/uploads/2022/05/EVANGELISM-e1662853404873.jpg
END:VEVENT
BEGIN:VEVENT
DTSTART;TZID=Europe/Helsinki:20250824T103000
DTEND;TZID=Europe/Helsinki:20250824T120000
DTSTAMP:20260421T120811
CREATED:20250720T153412Z
LAST-MODIFIED:20250914T153950Z
UID:10000613-1756031400-1756036800@messiahmbc.org
SUMMARY:Sunday Worship Service
DESCRIPTION:
URL:https://messiahmbc.org/events/sunday-worship-service-2/2025-08-24/
LOCATION:Messiah Baptist Church\, 8100 W. Seven Mile Road\, Detroit\, MI\, 48221\, United States
CATEGORIES:Church,Ministry
ATTACH;FMTTYPE=image/jpeg:https://messiahmbc.org/wp-content/uploads/2022/05/EVANGELISM-e1662853404873.jpg
END:VEVENT
BEGIN:VEVENT
DTSTART;TZID=Europe/Helsinki:20250831T103000
DTEND;TZID=Europe/Helsinki:20250831T120000
DTSTAMP:20260421T120811
CREATED:20250720T153412Z
LAST-MODIFIED:20250914T153950Z
UID:10000614-1756636200-1756641600@messiahmbc.org
SUMMARY:Sunday Worship Service
DESCRIPTION:
URL:https://messiahmbc.org/events/sunday-worship-service-2/2025-08-31/
LOCATION:Messiah Baptist Church\, 8100 W. Seven Mile Road\, Detroit\, MI\, 48221\, United States
CATEGORIES:Church,Ministry
ATTACH;FMTTYPE=image/jpeg:https://messiahmbc.org/wp-content/uploads/2022/05/EVANGELISM-e1662853404873.jpg
END:VEVENT
END:VCALENDAR