BEGIN:VCALENDAR
VERSION:2.0
PRODID:-//Messiah Baptist Church - ECPv6.14.0//NONSGML v1.0//EN
CALSCALE:GREGORIAN
METHOD:PUBLISH
X-ORIGINAL-URL:https://messiahmbc.org
X-WR-CALDESC:Events for Messiah Baptist Church
REFRESH-INTERVAL;VALUE=DURATION:PT1H
X-Robots-Tag:noindex
X-PUBLISHED-TTL:PT1H
BEGIN:VTIMEZONE
TZID:America/Detroit
BEGIN:DAYLIGHT
TZOFFSETFROM:-0500
TZOFFSETTO:-0400
TZNAME:EDT
DTSTART:20230312T070000
END:DAYLIGHT
BEGIN:STANDARD
TZOFFSETFROM:-0400
TZOFFSETTO:-0500
TZNAME:EST
DTSTART:20231105T060000
END:STANDARD
END:VTIMEZONE
BEGIN:VEVENT
DTSTART;TZID=America/Detroit:20230704T180000
DTEND;TZID=America/Detroit:20230704T190000
DTSTAMP:20260422T214236
CREATED:20220701T011421Z
LAST-MODIFIED:20220829T155156Z
UID:10000777-1688493600-1688497200@messiahmbc.org
SUMMARY:Evening Glory Prayer
DESCRIPTION:Evening Glory Prayer Conference Call\nTelephone Number – 302-202-1118\nAccess Code – 307379#
URL:https://messiahmbc.org/events/evening-glory-prayer-2-2022-09-20/2023-07-04/
LOCATION:MI
CATEGORIES:Church,Ministry
ATTACH;FMTTYPE=image/jpeg:https://messiahmbc.org/wp-content/uploads/2015/02/postphoto17.jpg
END:VEVENT
BEGIN:VEVENT
DTSTART;TZID=America/Detroit:20230711T180000
DTEND;TZID=America/Detroit:20230711T190000
DTSTAMP:20260422T214236
CREATED:20220701T011421Z
LAST-MODIFIED:20220829T155156Z
UID:10000778-1689098400-1689102000@messiahmbc.org
SUMMARY:Evening Glory Prayer
DESCRIPTION:Evening Glory Prayer Conference Call\nTelephone Number – 302-202-1118\nAccess Code – 307379#
URL:https://messiahmbc.org/events/evening-glory-prayer-2-2022-09-20/2023-07-11/
LOCATION:MI
CATEGORIES:Church,Ministry
ATTACH;FMTTYPE=image/jpeg:https://messiahmbc.org/wp-content/uploads/2015/02/postphoto17.jpg
END:VEVENT
BEGIN:VEVENT
DTSTART;TZID=America/Detroit:20230718T180000
DTEND;TZID=America/Detroit:20230718T190000
DTSTAMP:20260422T214236
CREATED:20220701T011421Z
LAST-MODIFIED:20220829T155156Z
UID:10000779-1689703200-1689706800@messiahmbc.org
SUMMARY:Evening Glory Prayer
DESCRIPTION:Evening Glory Prayer Conference Call\nTelephone Number – 302-202-1118\nAccess Code – 307379#
URL:https://messiahmbc.org/events/evening-glory-prayer-2-2022-09-20/2023-07-18/
LOCATION:MI
CATEGORIES:Church,Ministry
ATTACH;FMTTYPE=image/jpeg:https://messiahmbc.org/wp-content/uploads/2015/02/postphoto17.jpg
END:VEVENT
BEGIN:VEVENT
DTSTART;TZID=America/Detroit:20230725T180000
DTEND;TZID=America/Detroit:20230725T190000
DTSTAMP:20260422T214236
CREATED:20220701T011421Z
LAST-MODIFIED:20220829T155156Z
UID:10000780-1690308000-1690311600@messiahmbc.org
SUMMARY:Evening Glory Prayer
DESCRIPTION:Evening Glory Prayer Conference Call\nTelephone Number – 302-202-1118\nAccess Code – 307379#
URL:https://messiahmbc.org/events/evening-glory-prayer-2-2022-09-20/2023-07-25/
LOCATION:MI
CATEGORIES:Church,Ministry
ATTACH;FMTTYPE=image/jpeg:https://messiahmbc.org/wp-content/uploads/2015/02/postphoto17.jpg
END:VEVENT
END:VCALENDAR