BEGIN:VCALENDAR
VERSION:2.0
PRODID:-//Messiah Baptist Church - ECPv6.14.0//NONSGML v1.0//EN
CALSCALE:GREGORIAN
METHOD:PUBLISH
X-WR-CALNAME:Messiah Baptist Church
X-ORIGINAL-URL:https://messiahmbc.org
X-WR-CALDESC:Events for Messiah Baptist Church
REFRESH-INTERVAL;VALUE=DURATION:PT1H
X-Robots-Tag:noindex
X-PUBLISHED-TTL:PT1H
BEGIN:VTIMEZONE
TZID:America/Detroit
BEGIN:DAYLIGHT
TZOFFSETFROM:-0500
TZOFFSETTO:-0400
TZNAME:EDT
DTSTART:20260308T070000
END:DAYLIGHT
BEGIN:STANDARD
TZOFFSETFROM:-0400
TZOFFSETTO:-0500
TZNAME:EST
DTSTART:20261101T060000
END:STANDARD
END:VTIMEZONE
BEGIN:VEVENT
DTSTART;TZID=America/Detroit:20260421T060000
DTEND;TZID=America/Detroit:20260421T070000
DTSTAMP:20260421T100525
CREATED:20260315T160418Z
LAST-MODIFIED:20260315T160418Z
UID:10001985-1776751200-1776754800@messiahmbc.org
SUMMARY:TUESDAY MORNING GLORY PRAYER
DESCRIPTION:The prayer’s of the righteous availeth much. \nJoin us every Tuesday morning for our Morning Glory Prayer. \nConference Line:  302-202-1118\,\,\,307379#
URL:https://messiahmbc.org/events/tuesday-morning-glory-prayer-2/2026-04-21/
LOCATION:MI
ATTACH;FMTTYPE=image/jpeg:https://messiahmbc.org/wp-content/uploads/2024/09/Power-Of-Prayer.jpg
END:VEVENT
BEGIN:VEVENT
DTSTART;TZID=America/Detroit:20260421T183000
DTEND;TZID=America/Detroit:20260421T193000
DTSTAMP:20260421T100525
CREATED:20260315T160712Z
LAST-MODIFIED:20260315T160712Z
UID:10002050-1776796200-1776799800@messiahmbc.org
SUMMARY:TUESDAY EVENING PRAYER
DESCRIPTION:The prayer’s of the righteous availeth much. \nJoin us every Tuesday morning for our Morning Glory Prayer. \nConference Line:  302-202-1118\,\,\,307379#
URL:https://messiahmbc.org/events/tuesday-evening-prayer-2/2026-04-21/
LOCATION:MI
ATTACH;FMTTYPE=image/jpeg:https://messiahmbc.org/wp-content/uploads/2024/09/Power-Of-Prayer.jpg
END:VEVENT
END:VCALENDAR