BEGIN:VCALENDAR
VERSION:2.0
PRODID:-//Messiah Baptist Church - ECPv6.14.0//NONSGML v1.0//EN
CALSCALE:GREGORIAN
METHOD:PUBLISH
X-ORIGINAL-URL:https://messiahmbc.org
X-WR-CALDESC:Events for Messiah Baptist Church
REFRESH-INTERVAL;VALUE=DURATION:PT1H
X-Robots-Tag:noindex
X-PUBLISHED-TTL:PT1H
BEGIN:VTIMEZONE
TZID:America/Detroit
BEGIN:DAYLIGHT
TZOFFSETFROM:-0500
TZOFFSETTO:-0400
TZNAME:EDT
DTSTART:20250309T070000
END:DAYLIGHT
BEGIN:STANDARD
TZOFFSETFROM:-0400
TZOFFSETTO:-0500
TZNAME:EST
DTSTART:20251102T060000
END:STANDARD
END:VTIMEZONE
BEGIN:VEVENT
DTSTART;TZID=America/Detroit:20250517T100000
DTEND;TZID=America/Detroit:20250517T150000
DTSTAMP:20260422T093745
CREATED:20250322T203919Z
LAST-MODIFIED:20250322T204002Z
UID:10001072-1747476000-1747494000@messiahmbc.org
SUMMARY:Chapel Vision CDC Black Business Expo 2025
DESCRIPTION:
URL:https://messiahmbc.org/events/chapel-vision-cdc-black-business-expo-2025/
LOCATION:Galilee Baptist Church\, 5251 E. Outer Drive\, Detroit\, MI\, 48234
ATTACH;FMTTYPE=image/jpeg:https://messiahmbc.org/wp-content/uploads/2025/03/CDC-Blk-Expo-25-1920x1080-1.jpeg
END:VEVENT
BEGIN:VEVENT
DTSTART;TZID=America/Detroit:20250517T140000
DTEND;TZID=America/Detroit:20250517T160000
DTSTAMP:20260422T093745
CREATED:20250629T174215Z
LAST-MODIFIED:20250629T174215Z
UID:10001092-1747490400-1747497600@messiahmbc.org
SUMMARY:DEMENTIA AND ALZHEIMER WORKSHOP
DESCRIPTION:All are invited and encouraged to attend as we celebrate the knowledge of knowing. Dementia/Alzheimer Workshop \,”Not Discouraged By What We See but Determined By Whom We Believe”. 2 Chronicles 20:20 and Acts 27:25.  We look forward to seeing you there. 
URL:https://messiahmbc.org/events/dementia-and-alzheimer-workshop/
LOCATION:Messiah Baptist Church\, 8100 W. Seven Mile Road\, Detroit\, MI\, 48221\, United States
ATTACH;FMTTYPE=image/jpeg:https://messiahmbc.org/wp-content/uploads/2025/06/Dementia-and-Alzheimer-Workshop-Flyer-_LONG-scaled.jpg
END:VEVENT
END:VCALENDAR