BEGIN:VCALENDAR
VERSION:2.0
PRODID:-//Messiah Baptist Church - ECPv6.14.0//NONSGML v1.0//EN
CALSCALE:GREGORIAN
METHOD:PUBLISH
X-WR-CALNAME:Messiah Baptist Church
X-ORIGINAL-URL:https://messiahmbc.org
X-WR-CALDESC:Events for Messiah Baptist Church
REFRESH-INTERVAL;VALUE=DURATION:PT1H
X-Robots-Tag:noindex
X-PUBLISHED-TTL:PT1H
BEGIN:VTIMEZONE
TZID:America/Detroit
BEGIN:DAYLIGHT
TZOFFSETFROM:-0500
TZOFFSETTO:-0400
TZNAME:EDT
DTSTART:20250309T070000
END:DAYLIGHT
BEGIN:STANDARD
TZOFFSETFROM:-0400
TZOFFSETTO:-0500
TZNAME:EST
DTSTART:20251102T060000
END:STANDARD
END:VTIMEZONE
BEGIN:VEVENT
DTSTART;TZID=America/Detroit:20250501T110000
DTEND;TZID=America/Detroit:20250501T113000
DTSTAMP:20260422T080454
CREATED:20250425T002923Z
LAST-MODIFIED:20250425T002923Z
UID:10001077-1746097200-1746099000@messiahmbc.org
SUMMARY:CITYWIDE DAY OF COMMUNITY PRAYER
DESCRIPTION:All are invited to attend the Citywide Day of Community Prayer. \nIf you are unable to join us in person\, please stop what you are doing at 11am and pray to the God above.
URL:https://messiahmbc.org/events/citywide-day-of-community-prayer/
LOCATION:12th Precinct – Detroit Police Department\, 1441 W. Seven Mile Road\, Detroit\, MI\, 48203
ATTACH;FMTTYPE=image/jpeg:https://messiahmbc.org/wp-content/uploads/2025/04/81b40c92-d1d4-4707-b113-9972c917a867.jpg
END:VEVENT
END:VCALENDAR