BEGIN:VCALENDAR
VERSION:2.0
PRODID:-//Messiah Baptist Church - ECPv6.14.0//NONSGML v1.0//EN
CALSCALE:GREGORIAN
METHOD:PUBLISH
X-ORIGINAL-URL:https://messiahmbc.org
X-WR-CALDESC:Events for Messiah Baptist Church
REFRESH-INTERVAL;VALUE=DURATION:PT1H
X-Robots-Tag:noindex
X-PUBLISHED-TTL:PT1H
BEGIN:VTIMEZONE
TZID:America/Detroit
BEGIN:DAYLIGHT
TZOFFSETFROM:-0500
TZOFFSETTO:-0400
TZNAME:EDT
DTSTART:20250309T070000
END:DAYLIGHT
BEGIN:STANDARD
TZOFFSETFROM:-0400
TZOFFSETTO:-0500
TZNAME:EST
DTSTART:20251102T060000
END:STANDARD
END:VTIMEZONE
BEGIN:VEVENT
DTSTART;TZID=America/Detroit:20250112T090000
DTEND;TZID=America/Detroit:20250112T100000
DTSTAMP:20260424T100656
CREATED:20241215T041710Z
LAST-MODIFIED:20250202T025951Z
UID:10000589-1736672400-1736676000@messiahmbc.org
SUMMARY:IN-PERSON BTM (Bible Training for Ministry)
DESCRIPTION:Join us in-person every Sunday at 9am for BTM (Bible Training for Ministry). \nLet’s study the word of God together. \n  \n 
URL:https://messiahmbc.org/events/in-person-btm-bible-training-for-ministry/2025-01-12/
LOCATION:Messiah Baptist Church\, 8100 W. Seven Mile Road\, Detroit\, MI\, 48221\, United States
ATTACH;FMTTYPE=image/jpeg:https://messiahmbc.org/wp-content/uploads/2024/12/bible-study-2-2.jpg
END:VEVENT
BEGIN:VEVENT
DTSTART;TZID=America/Detroit:20250112T103000
DTEND;TZID=America/Detroit:20250112T120000
DTSTAMP:20260424T100656
CREATED:20250101T234320Z
LAST-MODIFIED:20250105T172748Z
UID:10000597-1736677800-1736683200@messiahmbc.org
SUMMARY:Leadership Day - Worship Service
DESCRIPTION:Join us during our 10:30am morning Worship Service as we celebrate the beginning of a new year of leadership.  All leaders are asked to wear black and white. \nWe look forward to seeing you there.
URL:https://messiahmbc.org/events/leadership-day-worship-service/
LOCATION:Messiah Baptist Church\, 8100 W. Seven Mile Road\, Detroit\, MI\, 48221\, United States
ATTACH;FMTTYPE=image/jpeg:https://messiahmbc.org/wp-content/uploads/2025/01/Leader-Day-Poster-2025-1.jpg
END:VEVENT
END:VCALENDAR