BEGIN:VCALENDAR
VERSION:2.0
PRODID:-//Messiah Baptist Church - ECPv6.14.0//NONSGML v1.0//EN
CALSCALE:GREGORIAN
METHOD:PUBLISH
X-WR-CALNAME:Messiah Baptist Church
X-ORIGINAL-URL:https://messiahmbc.org
X-WR-CALDESC:Events for Messiah Baptist Church
REFRESH-INTERVAL;VALUE=DURATION:PT1H
X-Robots-Tag:noindex
X-PUBLISHED-TTL:PT1H
BEGIN:VTIMEZONE
TZID:America/Detroit
BEGIN:DAYLIGHT
TZOFFSETFROM:-0500
TZOFFSETTO:-0400
TZNAME:EDT
DTSTART:20240310T070000
END:DAYLIGHT
BEGIN:STANDARD
TZOFFSETFROM:-0400
TZOFFSETTO:-0500
TZNAME:EST
DTSTART:20241103T060000
END:STANDARD
END:VTIMEZONE
BEGIN:VEVENT
DTSTART;TZID=America/Detroit:20241222T090000
DTEND;TZID=America/Detroit:20241222T100000
DTSTAMP:20260422T163648
CREATED:20241215T041951Z
LAST-MODIFIED:20241215T043607Z
UID:10000593-1734858000-1734861600@messiahmbc.org
SUMMARY:2024 Christmas Program "Jesus the Gift that Keeps on Giving"
DESCRIPTION:
URL:https://messiahmbc.org/events/2024-christmas-program-jesus-the-gift-that-keep-on-giving/
LOCATION:Messiah Baptist Church\, 8100 W. Seven Mile Road\, Detroit\, MI\, 48221\, United States
ATTACH;FMTTYPE=image/jpeg:https://messiahmbc.org/wp-content/uploads/2024/12/Christmas-1.jpg
END:VEVENT
END:VCALENDAR