BEGIN:VCALENDAR
VERSION:2.0
PRODID:-//Messiah Baptist Church - ECPv6.14.0//NONSGML v1.0//EN
CALSCALE:GREGORIAN
METHOD:PUBLISH
X-ORIGINAL-URL:https://messiahmbc.org
X-WR-CALDESC:Events for Messiah Baptist Church
REFRESH-INTERVAL;VALUE=DURATION:PT1H
X-Robots-Tag:noindex
X-PUBLISHED-TTL:PT1H
BEGIN:VTIMEZONE
TZID:America/Detroit
BEGIN:DAYLIGHT
TZOFFSETFROM:-0500
TZOFFSETTO:-0400
TZNAME:EDT
DTSTART:20240310T070000
END:DAYLIGHT
BEGIN:STANDARD
TZOFFSETFROM:-0400
TZOFFSETTO:-0500
TZNAME:EST
DTSTART:20241103T060000
END:STANDARD
END:VTIMEZONE
BEGIN:VEVENT
DTSTART;TZID=America/Detroit:20241022T103000
DTEND;TZID=America/Detroit:20241022T120000
DTSTAMP:20260423T011810
CREATED:20241020T154809Z
LAST-MODIFIED:20241020T154809Z
UID:10001044-1729593000-1729598400@messiahmbc.org
SUMMARY:The Council of Baptist Pastors presents " Pastors and Ministers Working Together for Relevant Kingdom Ministry"
DESCRIPTION:
URL:https://messiahmbc.org/events/the-council-of-baptist-pastors-presents-pastors-and-ministers-working-together-for-relevant-kingdom-ministry/
LOCATION:Dexter Avenue Baptist Church\, 13500 Dexter Avenue\, Detroit\, MI
ATTACH;FMTTYPE=image/jpeg:https://messiahmbc.org/wp-content/uploads/2024/10/church-concert-flyer-71-1.jpg
END:VEVENT
END:VCALENDAR