BEGIN:VCALENDAR
VERSION:2.0
PRODID:-//Messiah Baptist Church - ECPv6.14.0//NONSGML v1.0//EN
CALSCALE:GREGORIAN
METHOD:PUBLISH
X-WR-CALNAME:Messiah Baptist Church
X-ORIGINAL-URL:https://messiahmbc.org
X-WR-CALDESC:Events for Messiah Baptist Church
REFRESH-INTERVAL;VALUE=DURATION:PT1H
X-Robots-Tag:noindex
X-PUBLISHED-TTL:PT1H
BEGIN:VTIMEZONE
TZID:America/Detroit
BEGIN:DAYLIGHT
TZOFFSETFROM:-0500
TZOFFSETTO:-0400
TZNAME:EDT
DTSTART:20240310T070000
END:DAYLIGHT
BEGIN:STANDARD
TZOFFSETFROM:-0400
TZOFFSETTO:-0500
TZNAME:EST
DTSTART:20241103T060000
END:STANDARD
END:VTIMEZONE
BEGIN:VEVENT
DTSTART;TZID=America/Detroit:20241008T180000
DTEND;TZID=America/Detroit:20241008T203000
DTSTAMP:20260423T011727
CREATED:20240911T170831Z
LAST-MODIFIED:20240911T170831Z
UID:10001042-1728410400-1728419400@messiahmbc.org
SUMMARY:KIRBY-TERRELL FALL INSTITUTE
DESCRIPTION:THEME:  “The Prophetic Voice of the Church: Speaking Truth in a World of Lies”
URL:https://messiahmbc.org/events/kirby-terrell-fall-institute/
LOCATION:Mt. Hebron Missionary Baptist Church\, 20740 Reimanville Avenue\, Ferndale\, MI\, 48220
ATTACH;FMTTYPE=image/png:https://messiahmbc.org/wp-content/uploads/2024/09/1726007807405blob.png
END:VEVENT
END:VCALENDAR