BEGIN:VCALENDAR
VERSION:2.0
PRODID:-//Messiah Baptist Church - ECPv6.14.0//NONSGML v1.0//EN
CALSCALE:GREGORIAN
METHOD:PUBLISH
X-ORIGINAL-URL:https://messiahmbc.org
X-WR-CALDESC:Events for Messiah Baptist Church
REFRESH-INTERVAL;VALUE=DURATION:PT1H
X-Robots-Tag:noindex
X-PUBLISHED-TTL:PT1H
BEGIN:VTIMEZONE
TZID:America/Detroit
BEGIN:DAYLIGHT
TZOFFSETFROM:-0500
TZOFFSETTO:-0400
TZNAME:EDT
DTSTART:20240310T070000
END:DAYLIGHT
BEGIN:STANDARD
TZOFFSETFROM:-0400
TZOFFSETTO:-0500
TZNAME:EST
DTSTART:20241103T060000
END:STANDARD
END:VTIMEZONE
BEGIN:VEVENT
DTSTART;TZID=America/Detroit:20240804T180000
DTEND;TZID=America/Detroit:20240804T200000
DTSTAMP:20260422T222834
CREATED:20240721T160244Z
LAST-MODIFIED:20240721T160244Z
UID:10001028-1722794400-1722801600@messiahmbc.org
SUMMARY:BM&E State Convention Mass Choir Concert
DESCRIPTION:
URL:https://messiahmbc.org/events/bme-state-convention-mass-choir-concert/
LOCATION:New Providence Baptist Church\, 18211 Plymouth Road\, Detroit\, MI\, 48228
ATTACH;FMTTYPE=image/png:https://messiahmbc.org/wp-content/uploads/2024/07/BME-Concert-2024-.png
END:VEVENT
END:VCALENDAR