BEGIN:VCALENDAR
VERSION:2.0
PRODID:-//Messiah Baptist Church - ECPv6.14.0//NONSGML v1.0//EN
CALSCALE:GREGORIAN
METHOD:PUBLISH
X-ORIGINAL-URL:https://messiahmbc.org
X-WR-CALDESC:Events for Messiah Baptist Church
REFRESH-INTERVAL;VALUE=DURATION:PT1H
X-Robots-Tag:noindex
X-PUBLISHED-TTL:PT1H
BEGIN:VTIMEZONE
TZID:America/Detroit
BEGIN:DAYLIGHT
TZOFFSETFROM:-0500
TZOFFSETTO:-0400
TZNAME:EDT
DTSTART:20240310T070000
END:DAYLIGHT
BEGIN:STANDARD
TZOFFSETFROM:-0400
TZOFFSETTO:-0500
TZNAME:EST
DTSTART:20241103T060000
END:STANDARD
END:VTIMEZONE
BEGIN:VEVENT
DTSTART;TZID=America/Detroit:20240517T180000
DTEND;TZID=America/Detroit:20240517T193000
DTSTAMP:20260425T183330
CREATED:20240505T153440Z
LAST-MODIFIED:20240505T153440Z
UID:10000586-1715968800-1715974200@messiahmbc.org
SUMMARY:101st PRAYER AND PRAISE SERVICE
DESCRIPTION:Join us as we kick-off our 101st church anniversary with Prayer and Praise Service. \nLook forward to seeing you there.
URL:https://messiahmbc.org/events/101st-prayer-and-praise-service/
LOCATION:Messiah Baptist Church\, 8100 W. Seven Mile Road\, Detroit\, MI\, 48221\, United States
ATTACH;FMTTYPE=image/jpeg:https://messiahmbc.org/wp-content/uploads/2024/05/worship-sunday-flyer-1-1.jpg
END:VEVENT
END:VCALENDAR