BEGIN:VCALENDAR
VERSION:2.0
PRODID:-//Messiah Baptist Church - ECPv6.14.0//NONSGML v1.0//EN
CALSCALE:GREGORIAN
METHOD:PUBLISH
X-WR-CALNAME:Messiah Baptist Church
X-ORIGINAL-URL:https://messiahmbc.org
X-WR-CALDESC:Events for Messiah Baptist Church
REFRESH-INTERVAL;VALUE=DURATION:PT1H
X-Robots-Tag:noindex
X-PUBLISHED-TTL:PT1H
BEGIN:VTIMEZONE
TZID:America/Detroit
BEGIN:DAYLIGHT
TZOFFSETFROM:-0500
TZOFFSETTO:-0400
TZNAME:EDT
DTSTART:20240310T070000
END:DAYLIGHT
BEGIN:STANDARD
TZOFFSETFROM:-0400
TZOFFSETTO:-0500
TZNAME:EST
DTSTART:20241103T060000
END:STANDARD
END:VTIMEZONE
BEGIN:VEVENT
DTSTART;TZID=America/Detroit:20240501T174500
DTEND;TZID=America/Detroit:20240501T204500
DTSTAMP:20260425T212400
CREATED:20240427T184207Z
LAST-MODIFIED:20240427T185526Z
UID:10000582-1714585500-1714596300@messiahmbc.org
SUMMARY:BM&E State Congress - 76th Annual Session
DESCRIPTION:Join the BM&E State Congress for their 76th Annual Session on Monday\, April 29 – Thursday\, May 2 from 5:45pm – 8:45pm nightly at Greater Burnette Baptist Church – 16801 Schoolcraft\, Detroit\, MI 48227. \nThe 2024 theme is:  Rooted in Christ: Growing in Knowledge – Colossians 2:6-7. \nWe look forward to seeing you there.
URL:https://messiahmbc.org/events/bme-state-congress-76th-annual-session/2024-05-01/
LOCATION:Greater Burnette Baptist Church\, 16801 Schoolcraft\, Detroit\, MI\, 48227\, United States
ATTACH;FMTTYPE=image/png:https://messiahmbc.org/wp-content/uploads/2024/04/1713307248630blob-1.png
END:VEVENT
BEGIN:VEVENT
DTSTART;TZID=America/Detroit:20240501T180000
DTEND;TZID=America/Detroit:20240501T190000
DTSTAMP:20260425T212400
CREATED:20240427T185858Z
LAST-MODIFIED:20240427T190119Z
UID:10000584-1714586400-1714590000@messiahmbc.org
SUMMARY:BTM ( Bible Training for Ministry)
DESCRIPTION:BTM is cancelled for Wednesday\, May 1 and May 8.  We will see you on Wednesday\, May 15th.
URL:https://messiahmbc.org/events/btm-bible-training-for-ministry-2/
LOCATION:MI
ATTACH;FMTTYPE=image/jpeg:https://messiahmbc.org/wp-content/uploads/2024/04/BIBLE-STUDY-1-2.jpg
END:VEVENT
BEGIN:VEVENT
DTSTART;TZID=America/Detroit:20240501T180000
DTEND;TZID=America/Detroit:20240501T193000
DTSTAMP:20260425T212400
CREATED:20231019T001557Z
LAST-MODIFIED:20240427T190825Z
UID:10001007-1714586400-1714591800@messiahmbc.org
SUMMARY:BTM (Bible Training for Ministry)
DESCRIPTION:Join us every Wednesday at 6pm for Bible Study via the ZOOM Experience.
URL:https://messiahmbc.org/events/btm-bible-training-for-ministry/2024-05-01/
LOCATION:MI
ATTACH;FMTTYPE=image/jpeg:https://messiahmbc.org/wp-content/uploads/2023/10/BIBLE-STUDY.jpg
END:VEVENT
END:VCALENDAR